BEGIN:VCALENDAR
VERSION:2.0
PRODID:-//wp-events-plugin.com//7.2.3.1//EN
TZID:America/New_York
X-WR-TIMEZONE:America/New_York
BEGIN:VEVENT
UID:152462@kingstonhappenings.org
DTSTART;TZID=America/New_York:20251121T180000
DTEND;TZID=America/New_York:20251121T200000
DTSTAMP:20251028T122643Z
URL:https://kingstonhappenings.org/events/trivia-at-rmv-cellars/
SUMMARY:Trivia at RMV Cellars
DESCRIPTION:Think you’re the reigning champ of random knowledge?\n\n&nbsp
 \;\n\nProve it at this fun and handcrafted Trivia Night\, happening\n\nFri
 day November 21st\, 6:00–8:00 PM at RMV Cellars\n\nhosted by Marian (aka
  @TheGermanHostsTrivia)\n\n&nbsp\;\n\nThere’s no cover charge\, so all y
 ou’re risking is your pride (and maybe a few brain cells).\n\nBring your
  friends\, form a dream team\, or fly solo—either way you’ll laugh\, c
 ompete\, and maybe even walk away with some awesome prizes.\n\nMost import
 antly\, you’ll have a blast testing just how useful (or useless) all tho
 se fun facts you’ve been saving really are!
ATTACH;FMTTYPE=image/jpeg:https://kingstonhappenings.org/wp-content/upload
 s/2025/10/RMV_Flyer_21.png
CATEGORIES:@Featured,@Newsletter,Nightlife and entertainment,Sports and
 recreation
LOCATION:RMV Cellars\, 112 Burroughs Drive\, Esopus\, NY\, 12401\, United S
 tates
GEO:41.783753;-73.962551
X-APPLE-STRUCTURED-LOCATION;VALUE=URI;X-ADDRESS=112 Burroughs Drive\, Esopu
 s\, NY\, 12401\, United States;X-APPLE-RADIUS=100;X-TITLE=RMV Cellars:geo:
 41.783753,-73.962551
END:VEVENT
BEGIN:VTIMEZONE
TZID:America/New_York
X-LIC-LOCATION:America/New_York
BEGIN:STANDARD
DTSTART:20251102T010000
TZOFFSETFROM:-0400
TZOFFSETTO:-0500
TZNAME:EST
END:STANDARD
END:VTIMEZONE
END:VCALENDAR