BEGIN:VCALENDAR
VERSION:2.0
PRODID:-//wp-events-plugin.com//7.2.3.1//EN
TZID:America/New_York
X-WR-TIMEZONE:America/New_York
BEGIN:VEVENT
UID:152403@kingstonhappenings.org
DTSTART;TZID=America/New_York:20251024T180000
DTEND;TZID=America/New_York:20251024T200000
DTSTAMP:20251020T162420Z
URL:https://kingstonhappenings.org/events/trinitys-and-redeemers-lutherans
 -of-the-rondout-trunk-or-treat/
SUMMARY:Trinity's and Redeemer's (Lutherans of the Rondout) Trunk or Treat
DESCRIPTION:Come to Trinity's and Redeemer's (Lutherans of the Rondout) Tru
 nk or Treat on Friday\, October 24th from 6:00 - 8:00. Wear your best Cost
 umes \, Raffle and Prizes\, Music\, Free Hot Dogs\, Candy and More!Hosted 
 by Trinity Lutheran Church\, 72 Spring St.\, Kingston
ATTACH;FMTTYPE=image/jpeg:https://kingstonhappenings.org/wp-content/upload
 s/2025/10/550522172_1105968614979840_1838229383643397385_n.jpg
CATEGORIES:@Featured,@Newsletter,Community,For kids
LOCATION:Trinity Lutheran Church\, \, 
X-APPLE-STRUCTURED-LOCATION;VALUE=URI;X-ADDRESS=\, ;X-APPLE-RADIUS=100;X-TI
 TLE=Trinity Lutheran Church:geo:0,0
END:VEVENT
BEGIN:VTIMEZONE
TZID:America/New_York
X-LIC-LOCATION:America/New_York
BEGIN:DAYLIGHT
DTSTART:20250309T030000
TZOFFSETFROM:-0500
TZOFFSETTO:-0400
TZNAME:EDT
END:DAYLIGHT
END:VTIMEZONE
END:VCALENDAR