BEGIN:VCALENDAR
VERSION:2.0
PRODID:-//wp-events-plugin.com//7.2.3.1//EN
TZID:America/New_York
X-WR-TIMEZONE:America/New_York
BEGIN:VEVENT
UID:152453@kingstonhappenings.org
DTSTART;TZID=America/New_York:20251030T190000
DTEND;TZID=America/New_York:20251030T190000
DTSTAMP:20251103T124553Z
URL:https://kingstonhappenings.org/events/tribute-to-happy-traum/
SUMMARY:Tribute to Happy Traum
DESCRIPTION:This Tribute to Happy Traum will also be a benefit to help outf
 it the important new Archive building at the Woodstock Historical Society\
 , which will help preserve the valuable historical records and relics (on 
 such themes as the History of Music and Music Performance in Woodstock)Per
 forming artists include:John Sebastian\nJay Ungar and Molly Mason\nCindy C
 ashdollar\nScott Petito\nLeslie Ritter\nEd Sanders (The Fugs)\nMichael Vei
 tch\nBrian Hollander\nEugene Ruffolo\nTony Trischka\nMarc Black\nand Adam 
 Traum on guitar\nhttps://www.poetryfoundation.org/poets/ed-sanders
ATTACH;FMTTYPE=image/jpeg:https://kingstonhappenings.org/wp-content/upload
 s/2025/10/549668833_1435729408352617_6376993976401192365_n.jpg
CATEGORIES:@Featured,@Newsletter,Music,Nightlife and entertainment
LOCATION:Colony Woodstock NY\, 22 Rock City Rd\, Woodstock\, New York\, Uni
 ted States
GEO:42.0424924;-74.11799489999999
X-APPLE-STRUCTURED-LOCATION;VALUE=URI;X-ADDRESS=22 Rock City Rd\, Woodstock
 \, New York\, United States;X-APPLE-RADIUS=100;X-TITLE=Colony Woodstock NY
 :geo:42.0424924,-74.11799489999999
END:VEVENT
BEGIN:VTIMEZONE
TZID:America/New_York
X-LIC-LOCATION:America/New_York
BEGIN:DAYLIGHT
DTSTART:20250309T030000
TZOFFSETFROM:-0500
TZOFFSETTO:-0400
TZNAME:EDT
END:DAYLIGHT
END:VTIMEZONE
END:VCALENDAR