BEGIN:VCALENDAR
VERSION:2.0
PRODID:-//wp-events-plugin.com//7.2.3.1//EN
TZID:America/New_York
X-WR-TIMEZONE:America/New_York
BEGIN:VEVENT
UID:152734@kingstonhappenings.org
DTSTART;TZID=America/New_York:20251207T110000
DTEND;TZID=America/New_York:20251207T140000
DTSTAMP:20251201T191453Z
URL:https://kingstonhappenings.org/events/tree-of-life-sunday-woodstock-gr
 oove/
SUMMARY:Tree of Life Sunday Woodstock Groove
DESCRIPTION:Tree of Life Trio brings an electrifying fusion of Jazz\, R&amp
 \;B\, Soul\, and Funk to every stage. Featuring the dynamic interplay of S
 cott Brown\, Amit Shamir\, and Michael Colletti\, this powerhouse ensemble
  delivers soulful grooves and sophisticated improvisation that captivates 
 audiences from the first note.\n\nDrawing from deep jazz traditions while 
 exploring contemporary R&amp\;B and funk landscapes\, Tree of Life creates
  an immersive sonic experience that's both timeless and fresh. Whether lay
 ing down silky soul melodies or erupting into funk-driven intensity\, this
  trio commands attention with virtuosic musicianship and undeniable chemis
 try. Experience the evolution of modern groove music with Tree of Life.
ATTACH;FMTTYPE=image/jpeg:https://kingstonhappenings.org/wp-content/upload
 s/2025/11/tol-12-7export-jpg.jpg
CATEGORIES:@Featured,@Newsletter,Music,Nightlife and entertainment
LOCATION:Pearl Moon\, 52 Mill Hill Rd. \, Woodstock\, New York\, 12498\, Un
 ited States
GEO:42.039503;-74.115618
X-APPLE-STRUCTURED-LOCATION;VALUE=URI;X-ADDRESS=52 Mill Hill Rd. \, Woodsto
 ck\, New York\, 12498\, United States;X-APPLE-RADIUS=100;X-TITLE=Pearl Moo
 n:geo:42.039503,-74.115618
END:VEVENT
BEGIN:VTIMEZONE
TZID:America/New_York
X-LIC-LOCATION:America/New_York
BEGIN:STANDARD
DTSTART:20251102T010000
TZOFFSETFROM:-0400
TZOFFSETTO:-0500
TZNAME:EST
END:STANDARD
END:VTIMEZONE
END:VCALENDAR