BEGIN:VCALENDAR
VERSION:2.0
PRODID:-//wp-events-plugin.com//7.2.3.1//EN
TZID:America/New_York
X-WR-TIMEZONE:America/New_York
BEGIN:VEVENT
UID:153299@kingstonhappenings.org
DTSTART;TZID=America/New_York:20260117T180000
DTEND;TZID=America/New_York:20260117T200000
DTSTAMP:20260112T151205Z
URL:https://kingstonhappenings.org/events/tree-of-life-saturday-evening-gr
 oovelation-at-the-pearl-moon/
SUMMARY:Tree of Life Saturday Evening Groovelation at the Pearl Moon
DESCRIPTION:Tree of Life Trio brings an electrifying fusion of Jazz\, R&amp
 \;B\, Soul\, and Funk to every stage. Featuring the dynamic interplay of S
 cott Brown (Jaco Pastorius\, Luther Vandross\, Roy Ayers) \, Amit Shamir (
 Cro-Mags\, Charnett Mofett\, Conehead Buddhah)  and Michael Colletti (Les
 lie West\, Frank Carillo) this powerhouse ensemble delivers soulful groove
 s and sophisticated improvisation that captivates audiences from the first
  note.\n\nDrawing from deep jazz traditions while exploring contemporary R
 &amp\;B and funk landscapes\, Tree of Life creates an immersive sonic expe
 rience that’s both timeless and fresh. Whether laying down silky soul me
 lodies or erupting into funk-driven intensity\, this trio commands attenti
 on with virtuosic musicianship and undeniable chemistry. Experience the ev
 olution of modern groovelation with Tree of Life. #WoodstockNY #LiveMusic 
 #R&amp\;B #Jazz #Funk #Soul
ATTACH;FMTTYPE=image/jpeg:https://kingstonhappenings.org/wp-content/upload
 s/2025/12/Mazel-ToL-12-17-v2.jpg
CATEGORIES:@Featured,@Newsletter,Music,Nightlife and entertainment
LOCATION:Pearl Moon\, 52 Mill Hill Rd. \, Woodstock\, New York\, 12498\, Un
 ited States
GEO:42.039503;-74.115618
X-APPLE-STRUCTURED-LOCATION;VALUE=URI;X-ADDRESS=52 Mill Hill Rd. \, Woodsto
 ck\, New York\, 12498\, United States;X-APPLE-RADIUS=100;X-TITLE=Pearl Moo
 n:geo:42.039503,-74.115618
END:VEVENT
BEGIN:VTIMEZONE
TZID:America/New_York
X-LIC-LOCATION:America/New_York
BEGIN:STANDARD
DTSTART:20251102T010000
TZOFFSETFROM:-0400
TZOFFSETTO:-0500
TZNAME:EST
END:STANDARD
END:VTIMEZONE
END:VCALENDAR