BEGIN:VCALENDAR
VERSION:2.0
PRODID:-//wp-events-plugin.com//7.2.3.1//EN
TZID:America/New_York
X-WR-TIMEZONE:America/New_York
BEGIN:VEVENT
UID:155039@kingstonhappenings.org
DTSTART;TZID=America/New_York:20260204T153000
DTEND;TZID=America/New_York:20260225T163000
DTSTAMP:20260223T152152Z
URL:https://kingstonhappenings.org/events/tours-of-historic-rehers-bakery-
 4/
SUMMARY:Tours of Historic Reher's Bakery
DESCRIPTION:Step back to 1959 and tour an immigrant bakery that served rye\
 , pumpernickel\, challah\, and its signature bread rolls to the community 
 for 80 years. Explore original bakery artifacts\, hear stories of the Sund
 ay morning rush\, and discover how Frank Reher and his six children built 
 a business that fostered community for generations.\n\nRegister for a tour
  at tinyurl.com/BakeryTours26.\n\nGuided Bakery Tours:\nWednesdays 3:30pm\
 nSaturdays 12pm &amp\; 2pm\nSunday 12pm
ATTACH;FMTTYPE=image/jpeg:https://kingstonhappenings.org/wp-content/upload
 s/2026/01/sadie-1.png
CATEGORIES:@Featured,@Newsletter,Attraction Hours,Community,History,Museum
 and historic site hours
LOCATION:Reher Center for Immigrant Culture and History\, 99-101 Broadway\,
  Kingston\, NY\, 12401\, United States
GEO:41.920121;-73.986003
X-APPLE-STRUCTURED-LOCATION;VALUE=URI;X-ADDRESS=99-101 Broadway\, Kingston\
 , NY\, 12401\, United States;X-APPLE-RADIUS=100;X-TITLE=Reher Center for I
 mmigrant Culture and History:geo:41.920121,-73.986003
END:VEVENT
BEGIN:VTIMEZONE
TZID:America/New_York
X-LIC-LOCATION:America/New_York
BEGIN:STANDARD
DTSTART:20251102T010000
TZOFFSETFROM:-0400
TZOFFSETTO:-0500
TZNAME:EST
END:STANDARD
END:VTIMEZONE
END:VCALENDAR