BEGIN:VCALENDAR
VERSION:2.0
PRODID:-//wp-events-plugin.com//7.2.3.1//EN
TZID:America/New_York
X-WR-TIMEZONE:America/New_York
BEGIN:VEVENT
UID:156308@kingstonhappenings.org
DTSTART;TZID=America/New_York:20260425T190000
DTEND;TZID=America/New_York:20260425T220000
DTSTAMP:20260416T003633Z
URL:https://kingstonhappenings.org/events/todd-anderson-smalltet/
SUMMARY:Todd Anderson Smalltet
DESCRIPTION:Not your average jazz jam band! Tight big-band style arrangemen
 ts and performances by New York's top musicians.\n\nTodd Anderson – saxo
 phone/arranger\n\nDale DeMarco – saxophone\n\nSam Ryder – saxophone/fl
 ute\n\nRon Horton – trumpet\n\nChris Pasin – trumpet\n\nDeborah Weisz 
 – trombone\n\nLew Scott – bass\n\nBram Kincheloe – drums\n\nJeff Cia
 mpa – guitar\n\nAnn Belmont – guitar/vocals
ATTACH;FMTTYPE=image/jpeg:https://kingstonhappenings.org/wp-content/upload
 s/2026/04/2026.04.25_Smalltet-1.jpg
CATEGORIES:@Featured,Music
LOCATION:Lydia's Cafe\, 7 Old U.S. 209\, Stone Ridge\, New York\, United St
 ates
GEO:41.8306145;-74.17658890000001
X-APPLE-STRUCTURED-LOCATION;VALUE=URI;X-ADDRESS=7 Old U.S. 209\, Stone Ridg
 e\, New York\, United States;X-APPLE-RADIUS=100;X-TITLE=Lydia's Cafe:geo:4
 1.8306145,-74.17658890000001
END:VEVENT
BEGIN:VTIMEZONE
TZID:America/New_York
X-LIC-LOCATION:America/New_York
BEGIN:DAYLIGHT
DTSTART:20260308T030000
TZOFFSETFROM:-0500
TZOFFSETTO:-0400
TZNAME:EDT
END:DAYLIGHT
END:VTIMEZONE
END:VCALENDAR