BEGIN:VCALENDAR
VERSION:2.0
PRODID:-//wp-events-plugin.com//7.2.3.1//EN
TZID:America/New_York
X-WR-TIMEZONE:America/New_York
BEGIN:VEVENT
UID:155840@kingstonhappenings.org
DTSTART;TZID=America/New_York:20260424T000000
DTEND;TZID=America/New_York:20260524T000000
DTSTAMP:20260420T164324Z
URL:https://kingstonhappenings.org/events/tivoli-artists-gallery-sculpture
 -3-d-and-relief-show/
SUMMARY:Tivoli Artists Gallery.  Sculpture\, 3-D and Relief Show
DESCRIPTION:                                          
                \n Tivoli Artists Gallery  \n60 Broadway\, Tivoli
 \, NY\, 12583\n845-727-2667\nPress Release\nFor immediate release\nMarch 5
 \, 2026\nContact: Ann Moring\nalmoring@gmail.com\n845-416-5467\nwww.tivoli
 artistsgallery.com\nhttps://www.facebook.com/tivoliartistsgallery\n    
                                      Sculpture\, 3-D\, a
 nd Relief\nApril 24 - May 24\, 2026\nOpening reception Saturday\, April 25
 \, 3 - 5pm\nThis exhibit presents art processes that may be viewed from al
 l sides.  The artwork encompasses aspects of space\, shape\, texture and 
 color in a variety of materials. From the realistic to the abstract\, free
 standing and relief\, unique and exciting sculptural forms will be on disp
 lay.\nHighlights will include an exploration of forms from clay\, wax\, wo
 od\, stone\, glass\, fabric\, metal or found objects.  This will be an el
 egant balance of complex designs.\nThree traditional methods of sculpture 
 whether abstract or representational include modeling\, carving or joining
 .  Figurative pieces capture the gestures and mood of the model.  Abstra
 ct forms don’t attempt to represent an accurate depiction of visual\nrea
 lity but rather focus on energy\, movement and animation.\nGallery hours:
   Friday 5 - 8:30pm\,  Saturday 12 - 8:00pm\,  Sunday 1 - 5pm or by app
 ointment at www.tivoliartistsgallery.com.   
CATEGORIES:@Featured,@Newsletter,Art
LOCATION:Tivoli Artists Gallery\, 60 Broadway\, Tivoli\, NY\, 12583\, Unite
 d States
GEO:42.058494;-73.909413
X-APPLE-STRUCTURED-LOCATION;VALUE=URI;X-ADDRESS=60 Broadway\, Tivoli\, NY\,
  12583\, United States;X-APPLE-RADIUS=100;X-TITLE=Tivoli Artists Gallery:g
 eo:42.058494,-73.909413
END:VEVENT
BEGIN:VTIMEZONE
TZID:America/New_York
X-LIC-LOCATION:America/New_York
BEGIN:DAYLIGHT
DTSTART:20260308T030000
TZOFFSETFROM:-0500
TZOFFSETTO:-0400
TZNAME:EDT
END:DAYLIGHT
END:VTIMEZONE
END:VCALENDAR