BEGIN:VCALENDAR
VERSION:2.0
PRODID:-//wp-events-plugin.com//7.2.3.1//EN
TZID:America/New_York
X-WR-TIMEZONE:America/New_York
BEGIN:VEVENT
UID:151984@kingstonhappenings.org
DTSTART;TZID=America/New_York:20250927T150000
DTEND;TZID=America/New_York:20250927T170000
DTSTAMP:20250922T145213Z
URL:https://kingstonhappenings.org/events/tibetan-singer-yungchen-lhamo-li
 ve-at-the-old-dutch-church/
SUMMARY:Tibetan Singer Yungchen Lhamo Live at The Old Dutch Church
DESCRIPTION:Yungchen Lhamo Live in Concert at The Old Dutch Church\n\nCome 
 join us for an unforgettable afternoon of music with legendary Tibetan sin
 ger Yungchen Lhamo. Her otherworldly voice has alternately been described 
 by writers as "mesmerizing\," "spine-tingling "and "transcendent."\n\nMusi
 cians include: Bob Bottjer on Guitar\, Peter Godart on Keyboards\, Joakim 
 Lartey on Percussion\, Steve Gorn on Flute\, Peter Wetzler on Accordion an
 d Tom Krueger on Violin.\n\nWith special guest Columbia University Profess
 or and Tibet House US President Robert Thurman who will deliver a short Gr
 een Tara meditation for world peace in tumultuous times.\n\nyungchenlhamo.
 com\n\nonedropofkindness.org
ATTACH;FMTTYPE=image/jpeg:https://kingstonhappenings.org/wp-content/upload
 s/2025/09/YL-Smaller-for-Web.jpg
CATEGORIES:@Featured,@Newsletter,Music
LOCATION:Old Dutch Church\, 272 Wall St\, Kingston\, NY\, 12401\, United St
 ates
GEO:41.932863;-74.018839
X-APPLE-STRUCTURED-LOCATION;VALUE=URI;X-ADDRESS=272 Wall St\, Kingston\, NY
 \, 12401\, United States;X-APPLE-RADIUS=100;X-TITLE=Old Dutch Church:geo:4
 1.932863,-74.018839
END:VEVENT
BEGIN:VTIMEZONE
TZID:America/New_York
X-LIC-LOCATION:America/New_York
BEGIN:DAYLIGHT
DTSTART:20250309T030000
TZOFFSETFROM:-0500
TZOFFSETTO:-0400
TZNAME:EDT
END:DAYLIGHT
END:VTIMEZONE
END:VCALENDAR