BEGIN:VCALENDAR
VERSION:2.0
PRODID:-//wp-events-plugin.com//7.2.3.1//EN
TZID:America/New_York
X-WR-TIMEZONE:America/New_York
BEGIN:VEVENT
UID:156046@kingstonhappenings.org
DTSTART;TZID=America/New_York:20260514T190000
DTEND;TZID=America/New_York:20260514T210000
DTSTAMP:20260330T133406Z
URL:https://kingstonhappenings.org/events/three-sisters-by-anton-chekhov-v
 oice-theatre-2026-05-14/
SUMMARY:Three Sisters\, by Anton Chekhov - Voice Theatre
DESCRIPTION:Voice Theatre proudly presents Anton Chekhov's Three Sisters\, 
 May 14 - 31!  Performances are at Bethany Hall\, 272 Wall Street\, Kingst
 on NY.\n\nTICKETS:  https://www.voicetheatre.org/three-sisters-event\nMay
  14-31\, 2026\nThursday – Saturday 7:00pm\nSaturday and Sunday matinees 
 2pm\nNO PERFORMANCE Sunday May\, 24\nThis deeply moving story of the Próz
 orov sisters revolves around their quest for home\, love and a meaningful 
 life. Ólga\, Másha and Irína strive to overcome their challenges and fa
 ilings in the midst of their shattered dreams only to discover that their 
 own personal acceptance\, endurance and courage is their one hope they hav
 e to live their lives with peace and dignity.\n\nCandlelit  masterpiece o
 f loving and longing.  Please join us!
ATTACH;FMTTYPE=image/jpeg:https://kingstonhappenings.org/wp-content/upload
 s/2026/03/ThreeSisters_poster_email-2.jpg
CATEGORIES:@Featured,Nightlife and entertainment,Theater
LOCATION:Kingston\, NY\, 1 FakeStreetNameSoCheckDetail\, Kingston\, NY\, 12
 401\, United States
GEO:41.9270367;-73.99736080000002
X-APPLE-STRUCTURED-LOCATION;VALUE=URI;X-ADDRESS=1 FakeStreetNameSoCheckDeta
 il\, Kingston\, NY\, 12401\, United States;X-APPLE-RADIUS=100;X-TITLE=King
 ston\, NY:geo:41.9270367,-73.99736080000002
END:VEVENT
BEGIN:VTIMEZONE
TZID:America/New_York
X-LIC-LOCATION:America/New_York
BEGIN:DAYLIGHT
DTSTART:20260308T030000
TZOFFSETFROM:-0500
TZOFFSETTO:-0400
TZNAME:EDT
END:DAYLIGHT
END:VTIMEZONE
END:VCALENDAR