BEGIN:VCALENDAR
VERSION:2.0
PRODID:-//wp-events-plugin.com//7.2.3.1//EN
TZID:America/New_York
X-WR-TIMEZONE:America/New_York
BEGIN:VEVENT
UID:156085@kingstonhappenings.org
DTSTART;TZID=America/New_York:20260416T173000
DTEND;TZID=America/New_York:20260416T200000
DTSTAMP:20260331T191120Z
URL:https://kingstonhappenings.org/events/third-thursday/
SUMMARY:Third Thursday
DESCRIPTION:Join us in person for a laid-back evening to connect and chill 
 with fellow members and newbies! It’s the perfect chance to mingle\, sha
 re stories\, and make new friends over some great vibes. Don’t miss out 
 on this casual happy hour—we can’t wait to see you there! RSVP require
 d.\n\nFree for Members with promo code\n$10 for Prospective Members\n(tick
 et price will go towards membership dues when you sign up before April 30t
 h)
ATTACH;FMTTYPE=image/jpeg:https://kingstonhappenings.org/wp-content/upload
 s/2026/03/THIRD-THURSDAYS-APRIL.png
CATEGORIES:@Featured
LOCATION:(Creative Legion)\, 7 Fairview Ave\, Hudson\, NY\, 12534\, NY\, Un
 ited States
GEO:42.247276;-73.774149
X-APPLE-STRUCTURED-LOCATION;VALUE=URI;X-ADDRESS=7 Fairview Ave\, Hudson\, N
 Y\, 12534\, NY\, United States;X-APPLE-RADIUS=100;X-TITLE=(Creative Legion
 ):geo:42.247276,-73.774149
END:VEVENT
BEGIN:VTIMEZONE
TZID:America/New_York
X-LIC-LOCATION:America/New_York
BEGIN:DAYLIGHT
DTSTART:20260308T030000
TZOFFSETFROM:-0500
TZOFFSETTO:-0400
TZNAME:EDT
END:DAYLIGHT
END:VTIMEZONE
END:VCALENDAR