BEGIN:VCALENDAR
VERSION:2.0
PRODID:-//wp-events-plugin.com//7.2.3.1//EN
TZID:America/New_York
X-WR-TIMEZONE:America/New_York
BEGIN:VEVENT
UID:156384@kingstonhappenings.org
DTSTART;TZID=America/New_York:20260423T200000
DTEND;TZID=America/New_York:20260423T200000
DTSTAMP:20260420T164324Z
URL:https://kingstonhappenings.org/events/thee-sinseers-assembly/
SUMMARY:Thee Sinseers @ Assembly
DESCRIPTION:We have an important update regarding our 4/23 show with Thee S
 inseers &amp\; The Altons. Unfortunately\, The Altons will no longer be ab
 le to perform– please see below for a message from the band. Thee Sinsee
 rs will still be taking the stage and look forward to putting on a great s
 how for you.\n\n"We are so sad to announce that we have to pull off our up
 coming East Coast tour (4/23-5/2) with Thee Sinseers. Bryan (lead vocals/g
 uitar) had to undergo surgery– he is on the mend\, but not yet in a plac
 e to perform on this run despite best efforts. Please send him all the goo
 d healing vibes! We hope you’ll still come out to see our Sinseers famil
 y\, but if you decide you no longer wish to attend\, refunds can be reques
 ted at your point of purchase. To all our fans on the East Coast\, we prom
 ise we’ll make it up to you soon and bring you the show you deserve! Lov
 e you all\, thank you for understanding."\n\nPlease note any refund reques
 ts must be submitted by Tuesday 4/21 at 5pm ET by emailing info@assemblyki
 ngston.com.\n\nTHEE SINSEERS\nStraight out of East L.A. and led by multi-i
 nstrumentalist\, producer and singer-songwriter Joseph Quiñones\, Thee Si
 nseers feature a full brass section led by Eric Johnson (Tenor sax)\, Stev
 e Surman (Bari sax) and Joseluis Jimenez (trombone). The line up also incl
 udes sweet harmonies and a tight rhythm section consisting of Christopher 
 Manjarrez (Bass)\, Francisco Flores (Guitar)\, Bryan Ponce (Guitar/vox)\, 
 Luis Carpio (Drums/vox) and Adriana Flores (Vox).\n\nTogether they are a p
 art of a community of musicians who are tying together the nostalgic and t
 he classic with the innovative and the new to bring a unique sound to soul
  music. Thee Sinseers are part of the Colemine Records family led by Terry
  Cole\, who released their first singles\, “It Was Only A Dream” and 
 “I Don’t Mind” in 2019\, with a full length LP\, “Sinseerly Yours
 ” releasing in March 2024. The band’s song “Seems Like” was also i
 ncluded in the inaugural compilation\, “Presenting Penrose Records” fr
 om the Penrose imprint of the renowned\, Brooklyn-based label\, Daptone Re
 cords. The song “It Was Only A Dream” was featured in the feature film
  “Self Reliance” starring Jake Johnson\, and in the TV show\, “River
 dale.” To date\, Thee Sinseers have dazzled audiences across the country
  in soul strongholds such as California\, Texas\, New York\, Chicago\, Ore
 gon\, and more. The road is paved in love and soul and Thee Sinseers are o
 n their way to a venue near you soon.
ATTACH;FMTTYPE=image/jpeg:https://kingstonhappenings.org/wp-content/upload
 s/2026/04/2a6680aa-bace-4917-8002-60ea953d3cb2.jpg
CATEGORIES:@Featured,@Newsletter
LOCATION:Assembly\, 236 Wall St. 3rd Floor\, KINGSTON\, NY\, 12401\, United
  States
GEO:41.931738;-74.018648
X-APPLE-STRUCTURED-LOCATION;VALUE=URI;X-ADDRESS=236 Wall St. 3rd Floor\, KI
 NGSTON\, NY\, 12401\, United States;X-APPLE-RADIUS=100;X-TITLE=Assembly:ge
 o:41.931738,-74.018648
END:VEVENT
BEGIN:VTIMEZONE
TZID:America/New_York
X-LIC-LOCATION:America/New_York
BEGIN:DAYLIGHT
DTSTART:20260308T030000
TZOFFSETFROM:-0500
TZOFFSETTO:-0400
TZNAME:EDT
END:DAYLIGHT
END:VTIMEZONE
END:VCALENDAR