BEGIN:VCALENDAR
VERSION:2.0
PRODID:-//wp-events-plugin.com//7.2.3.1//EN
TZID:America/New_York
X-WR-TIMEZONE:America/New_York
BEGIN:VEVENT
UID:152295@kingstonhappenings.org
DTSTART;TZID=America/New_York:20251113T173000
DTEND;TZID=America/New_York:20251113T193000
DTSTAMP:20251012T124521Z
URL:https://kingstonhappenings.org/events/the-work-film-screening-panel-di
 scussion-presented-by-the-ulster-county-trauma-informed-care-collaborative
 /
SUMMARY:The Work – Film Screening &amp\; Panel Discussion Presented by th
 e Ulster County Trauma-Informed Care Collaborative
DESCRIPTION:Join for an evening of powerful storytelling and reflection as 
 they screen The Work\, a moving documentary that follows three civilians 
 participating in a four-day group therapy retreat with men incarcerated at
  Folsom State Prison. The film offers an intimate look at transformation\,
  healing\, and the human capacity for change.\nFollowing the screening\, s
 tay for a panel discussion featuring our very own Frank Waters\, Co-Fou
 nder and Executive Director of MyKingstonKids\, along with other distingui
 shed guests who will explore the film’s themes and the importance of tra
 uma-informed care in our community.
ATTACH;FMTTYPE=image/jpeg:https://kingstonhappenings.org/wp-content/upload
 s/2025/10/Website-Event-Specs-16-3.png
CATEGORIES:@Featured,Movies
LOCATION:Kingston Library\, 61 Crown St\, Kingston\, NY\, 12401\, United St
 ates
GEO:41.934381;-74.021982
X-APPLE-STRUCTURED-LOCATION;VALUE=URI;X-ADDRESS=61 Crown St\, Kingston\, NY
 \, 12401\, United States;X-APPLE-RADIUS=100;X-TITLE=Kingston Library:geo:4
 1.934381,-74.021982
END:VEVENT
BEGIN:VTIMEZONE
TZID:America/New_York
X-LIC-LOCATION:America/New_York
BEGIN:STANDARD
DTSTART:20251102T010000
TZOFFSETFROM:-0400
TZOFFSETTO:-0500
TZNAME:EST
END:STANDARD
END:VTIMEZONE
END:VCALENDAR