BEGIN:VCALENDAR
VERSION:2.0
PRODID:-//wp-events-plugin.com//7.2.3.1//EN
TZID:America/New_York
X-WR-TIMEZONE:America/New_York
BEGIN:VEVENT
UID:152048@kingstonhappenings.org
DTSTART;TZID=America/New_York:20251003T190000
DTEND;TZID=America/New_York:20251003T220000
DTSTAMP:20250929T140808Z
URL:https://kingstonhappenings.org/events/the-windup/
SUMMARY:The Windup
DESCRIPTION:Join Jared Engel and Aidan Scrimgeour of the NYC Musicians’ B
 aseball Club for The Windup\, an evening of spirited baseball tunes\, off
 beat baseball tales told through live documentary shorts\, and a live-scor
 ed screening of Engel’s short film Day of the Catch\, a reimagined rete
 lling of a true baseball story involving Casey Stengel\, a biplane\, and a
  grapefruit.\nFriday October 3 2025\nChromatic Studios\, 71 Oneil Kingston
  NY\nDoors 7 PM\, show 7:30\nFree admission\, bring a donation for the per
 formers\nrsvp@chromatic-studios.com
ATTACH;FMTTYPE=image/jpeg:https://kingstonhappenings.org/wp-content/upload
 s/2025/09/Aidan.jpg
CATEGORIES:@Featured,@Newsletter
LOCATION:Chromatic Studios\, 71 O'Neil St. \, Kingston\, NY\, 12401\, Unite
 d States
GEO:41.932209;-74.003624
X-APPLE-STRUCTURED-LOCATION;VALUE=URI;X-ADDRESS=71 O'Neil St. \, Kingston\,
  NY\, 12401\, United States;X-APPLE-RADIUS=100;X-TITLE=Chromatic Studios:g
 eo:41.932209,-74.003624
END:VEVENT
BEGIN:VTIMEZONE
TZID:America/New_York
X-LIC-LOCATION:America/New_York
BEGIN:DAYLIGHT
DTSTART:20250309T030000
TZOFFSETFROM:-0500
TZOFFSETTO:-0400
TZNAME:EDT
END:DAYLIGHT
END:VTIMEZONE
END:VCALENDAR