BEGIN:VCALENDAR
VERSION:2.0
PRODID:-//wp-events-plugin.com//7.2.3.1//EN
TZID:America/New_York
X-WR-TIMEZONE:America/New_York
BEGIN:VEVENT
UID:152437@kingstonhappenings.org
DTSTART;TZID=America/New_York:20251112T190000
DTEND;TZID=America/New_York:20251112T203000
DTSTAMP:20251023T161831Z
URL:https://kingstonhappenings.org/events/the-true-story-of-murder-cafe-wi
 th-frank-marquette-author-event/
SUMMARY:The True Story of Murder Cafe with Frank Marquette\; Author Event
DESCRIPTION:\n\n\n\n\nFrank Marquette\, a resident of Rosendale\, New York\
 , is the owner-operator of Murder Café\, a traveling entertainment compan
 y now in its 27th year of operation. His memoir\, The True Story of Murder
  Café\, has been published by Troy Bookmakers of Troy\, New York. Accordi
 ng to Frank\, the book’s subtitle offers the reader a big clue as to its
  content. It reads: How One Families Plunge into Mystery Dinner Theatre Ma
 de the World a Better Place”.\n\nTaking the stage this evening\, Mr. Mar
 quette will discuss his book and his 27-year history with Murder Café. Hi
 s remarks will be interrupted by members of his theater troupe\; they will
  offer characters\, songs\, and comedy taken from Murder Café’s popular
  shows. After his presentation Frank will take questions and then conduct 
 a book signing.\n\nFrank Marquette has appeared with theatre groups in New
  York\, Nevada and New Mexico. He has written fifteen plays and since 2017
  he has produced Mystery Weekend at Mohonk Mountain House. His on-camera w
 ork has included national commercials\, a featured role in “Unsolved Mys
 teries”\, local and regional commercials and roles in the PBS original p
 roduction\, “The Greatest Man in the World” and “The Marvelous Mrs. 
 Maisel” on Amazon Prime.\n\n\n\n\n
CATEGORIES:@Featured,Educational classes and lectures
LOCATION:Rosendale Theater\, 408 Main St\, Rosendale\, New York\, 12472\, U
 nited States
GEO:41.8441401;-74.0821133
X-APPLE-STRUCTURED-LOCATION;VALUE=URI;X-ADDRESS=408 Main St\, Rosendale\, N
 ew York\, 12472\, United States;X-APPLE-RADIUS=100;X-TITLE=Rosendale Theat
 er:geo:41.8441401,-74.0821133
END:VEVENT
BEGIN:VTIMEZONE
TZID:America/New_York
X-LIC-LOCATION:America/New_York
BEGIN:STANDARD
DTSTART:20251102T010000
TZOFFSETFROM:-0400
TZOFFSETTO:-0500
TZNAME:EST
END:STANDARD
END:VTIMEZONE
END:VCALENDAR