BEGIN:VCALENDAR
VERSION:2.0
PRODID:-//wp-events-plugin.com//7.2.3.1//EN
TZID:America/New_York
X-WR-TIMEZONE:America/New_York
BEGIN:VEVENT
UID:153345@kingstonhappenings.org
DTSTART;TZID=America/New_York:20260104T113000
DTEND;TZID=America/New_York:20260104T143000
DTSTAMP:20260103T180129Z
URL:https://kingstonhappenings.org/events/the-tillson-jazz-ensemble-vibing
 -pearl-moon-brunchelate-with-wayne-and-herbie-and-more/
SUMMARY:The Tillson Jazz Ensemble Vibing @ Pearl Moon: Brunchelate with Way
 ne and Herbie and more
DESCRIPTION:Sunday Mood: The Tillson Jazz Ensemble Vibing @ Pearl Moon\nIf 
 you’re looking for the ultimate vibe shift this Sunday\, the Tillson Jaz
 z Ensemble is dropping a masterclass in sonic curation at Pearl Moon from 
 11:30 AM to 2:30 PM. This isn't your typical background brunch music\; it
 ’s a deep dive into the grooves of Herbie Hancock and the ethereal\, wor
 ld-building compositions of Wayne Shorter. The ensemble has this incredibl
 e telepathic chemistry\, pivoting effortlessly from Miles-inspired minimal
 ism to the complex\, asymmetric brilliance of Carla Bley. It’s sophistic
 ated\, it’s moody\, and it’s exactly the kind of musicianship that rem
 inds you why this genre is timeless.\nThe setlist is a total dream for any
 one who appreciates the "architects of cool." We’re talking the gritty\,
  hard-bop energy of Joe Henderson paired with the playful\, rhythmic puzzl
 es of Thelonious Monk. The Tillson crew doesn't just cover these legends
 —they deconstruct them\, adding a modern edge that feels fresh and vital
 . Whether you’re a jazz head or just want to soak in some high-level imp
 rovisation while you caffeinate\, this is the move. Come through for the c
 offee\, stay for the avant-garde textures\, and let the ensemble set the f
 requency for your week.\n\nAmit Shamir | Drums\nThe heartbeat of TJE. Amit
  isn't just keeping time\; he’s painting with texture. Known for a surgi
 cal touch and a deep sense of pocket\, he provides the rhythmic gravity th
 at allows the rest of the band to fly. Whether it’s a ghost-note groove 
 or a high-energy peak\, Amit’s kit work is pure main-character energy.\n
 \nCharles Frommer | Brass\, Woodwinds\, Vox\nThe ultimate multi-hyphenate.
  Charles is the ensemble’s sonic chameleon\, switching between the soulf
 ul cry of the brass and the cinematic warmth of woodwinds. His phrasing is
  lyrical\, moody\, and always hits the right frequency—plus\, when he dr
 ops in on vocals\, the vibe goes through the roof.\n\nMichael Schirmer | F
 ender Rhodes\nThe architect of the TJE atmosphere. Michael brings that ico
 nic\, vintage Fender Rhodes warmth that defines the band’s electric edge
 . From lush\, ethereal chords to sharp\, percussive solos\, his keys creat
 e a panoramic soundscape that feels like a classic vinyl record come to li
 fe.\n\nMichael Colletti | Electric Bass Guitar\nThe foundation. Michael Co
 lletti holds it all together with a soulful melodic approach to the electr
 ic bass that’s as funky as it is steady. Locking in with the drums to cr
 eate a deep\, resonant groove you can feel in your chest.
ATTACH;FMTTYPE=image/jpeg:https://kingstonhappenings.org/wp-content/upload
 s/2026/01/sunday-tje-jazz-1-4.png
CATEGORIES:@Featured,Art,Music,Nightlife and entertainment,Restaurant
 promotions
LOCATION:Pearl Moon\, 52 Mill Hill Rd. \, Woodstock\, New York\, 12498\, Un
 ited States
GEO:42.039503;-74.115618
X-APPLE-STRUCTURED-LOCATION;VALUE=URI;X-ADDRESS=52 Mill Hill Rd. \, Woodsto
 ck\, New York\, 12498\, United States;X-APPLE-RADIUS=100;X-TITLE=Pearl Moo
 n:geo:42.039503,-74.115618
END:VEVENT
BEGIN:VTIMEZONE
TZID:America/New_York
X-LIC-LOCATION:America/New_York
BEGIN:STANDARD
DTSTART:20251102T010000
TZOFFSETFROM:-0400
TZOFFSETTO:-0500
TZNAME:EST
END:STANDARD
END:VTIMEZONE
END:VCALENDAR