BEGIN:VCALENDAR
VERSION:2.0
PRODID:-//wp-events-plugin.com//7.2.3.1//EN
TZID:America/New_York
X-WR-TIMEZONE:America/New_York
BEGIN:VEVENT
UID:154942@kingstonhappenings.org
DTSTART;TZID=America/New_York:20260321T130000
DTEND;TZID=America/New_York:20260321T140000
DTSTAMP:20260316T191025Z
URL:https://kingstonhappenings.org/events/the-tiffin-project-for-teens/
SUMMARY:The Tiffin Project for Teens!
DESCRIPTION:The Tiffin Project for Teens!\nSaturday March 21st 2026\n1:00 P
 M – 2:00 PM\nWoodstock Library\n10 Dixon Ave. Woodstock NY\nSingle-use p
 ackaging (like food take-out containers) are wasteful products that are us
 ed once\, for a very short period of time\, before being discarded in a la
 ndfill where they may take hundreds of years to “break down.” These wa
 steful single-use products add up to make a big impact on our planet and c
 ommunities. Luckily\, “low-waste living” and the “Bring Your Own” 
 movement has inspired many people to choose reuse when dining or shopping 
 on-the-go.\n\nThis workshop is designed for teens (age 14+) and young adul
 ts who want to learn about the impact that “take-out” or “to-go” c
 ontainers have on litter and waterways. Participants will also be introduc
 ed to how single use plastics may also affect our health. Most importantly
 \, participants will learn about the power of reuse through “tiffins” 
 which are reusable stainless steel food containers\, and other ways to avo
 id single use items when dining on the go!\n\nAll participants who pre-reg
 ister will receive a free tiffin at the end of the workshop\, compliments 
 of Ulster County Resource Recovery Agency. This program will be presented 
 by Angelina Brandt\, UCRRA Director of Sustainability at Ulster County Res
 ource Recovery Agency.
ATTACH;FMTTYPE=image/jpeg:https://kingstonhappenings.org/wp-content/upload
 s/2026/01/3.21.26-Tiffin-Project-for-Teens-Woodstock-Library-BANNER.png
CATEGORIES:@Featured,@Newsletter,Educational classes and lectures,For kids
LOCATION:Woodstock Library\, 5 Library Lane\, KINGSTON\, NY\, 12401\, Unite
 d States
GEO:42.040896;-74.122356
X-APPLE-STRUCTURED-LOCATION;VALUE=URI;X-ADDRESS=5 Library Lane\, KINGSTON\,
  NY\, 12401\, United States;X-APPLE-RADIUS=100;X-TITLE=Woodstock Library:g
 eo:42.040896,-74.122356
END:VEVENT
BEGIN:VTIMEZONE
TZID:America/New_York
X-LIC-LOCATION:America/New_York
BEGIN:DAYLIGHT
DTSTART:20260308T030000
TZOFFSETFROM:-0500
TZOFFSETTO:-0400
TZNAME:EDT
END:DAYLIGHT
END:VTIMEZONE
END:VCALENDAR