BEGIN:VCALENDAR
VERSION:2.0
PRODID:-//wp-events-plugin.com//7.2.3.1//EN
TZID:America/New_York
X-WR-TIMEZONE:America/New_York
BEGIN:VEVENT
UID:151705@kingstonhappenings.org
DTSTART;TZID=America/New_York:20250920T120000
DTEND;TZID=America/New_York:20250920T200000
DTSTAMP:20250917T013219Z
URL:https://kingstonhappenings.org/events/the-third-annual-heart-of-midtow
 n/
SUMMARY:The Third Annual Heart of Midtown
DESCRIPTION:A free annual mental health\, music and street festival organiz
 ed by Rewind Kingston and the Flood family in loving memory of Cassidy Flo
 od\, who passed away at 19 years old in 2020 after years of struggling wit
 h her mental health. \n\nWith two stages of live music\, over 15 musicians
 \, numerous organizations providing resources\, and free wellness activiti
 es and art workshops\, this event will create a supportive atmosphere for 
 young people in Kingston and offer a day full of community music\, and men
 tal health awareness.\n\n\nAs a part of their Go All In for Mental Health 
 Music campaign\, the goal of the festival is to raise awareness of the men
 tal health crisis impacting our youth and to build a strong supportive com
 munity. The event will provide an opportunity to share resources and servi
 ces available locally while engaging our youth through music and activitie
 s.\n\n\n
ATTACH;FMTTYPE=image/jpeg:https://kingstonhappenings.org/wp-content/upload
 s/2025/09/Untitled.jpeg
CATEGORIES:@Featured,@Newsletter,Community,Festivals and major community
 events,For kids,Health, fitness, yoga, martial arts and other
 classes,Music
LOCATION:Westkill Supply\, 602 Broadway Unit #2\, Kingston\, NY\, 12401\, U
 nited States
GEO:41.929774;-74.004185
X-APPLE-STRUCTURED-LOCATION;VALUE=URI;X-ADDRESS=602 Broadway Unit #2\, King
 ston\, NY\, 12401\, United States;X-APPLE-RADIUS=100;X-TITLE=Westkill Supp
 ly:geo:41.929774,-74.004185
END:VEVENT
BEGIN:VTIMEZONE
TZID:America/New_York
X-LIC-LOCATION:America/New_York
BEGIN:DAYLIGHT
DTSTART:20250309T030000
TZOFFSETFROM:-0500
TZOFFSETTO:-0400
TZNAME:EDT
END:DAYLIGHT
END:VTIMEZONE
END:VCALENDAR