BEGIN:VCALENDAR
VERSION:2.0
PRODID:-//wp-events-plugin.com//7.2.3.1//EN
TZID:America/New_York
X-WR-TIMEZONE:America/New_York
BEGIN:VEVENT
UID:156403@kingstonhappenings.org
DTSTART;TZID=America/New_York:20260425T200000
DTEND;TZID=America/New_York:20260425T200000
DTSTAMP:20260420T150425Z
URL:https://kingstonhappenings.org/events/the-the-band-band-presents-stage
 -fright-the-concert/
SUMMARY:The THE BAND Band presents  Stage Fright - The Concert
DESCRIPTION:The THE BAND Band performs Stage Fright\, The Band’s third al
 bum\, in its entirety\, on the very grounds where it was recorded in 1970.
  It includes fan favorites “The Shape I’m In\,” “W.S. Walcott Medi
 cine Show\,” and the title cut “Stage Fright\,” as well as deep cuts
  like “The Rumor\,” “Sleeping\,” and “Daniel and the Sacred Harp
 .”
ATTACH;FMTTYPE=image/jpeg:https://kingstonhappenings.org/wp-content/upload
 s/2026/04/649406706_122094040395074090_2131544566861731847_n-e177669744750
 0.jpg
CATEGORIES:@Featured,@Newsletter,@Weekly Pick,Movies,Music,Nightlife and
 entertainment
LOCATION:Woodstock Playhouse\, 103 Mill Hill Rd\, Woodstock\, New York\, 12
 401\, United States
GEO:42.0384701;-74.11116179999999
X-APPLE-STRUCTURED-LOCATION;VALUE=URI;X-ADDRESS=103 Mill Hill Rd\, Woodstoc
 k\, New York\, 12401\, United States;X-APPLE-RADIUS=100;X-TITLE=Woodstock 
 Playhouse:geo:42.0384701,-74.11116179999999
END:VEVENT
BEGIN:VTIMEZONE
TZID:America/New_York
X-LIC-LOCATION:America/New_York
BEGIN:DAYLIGHT
DTSTART:20260308T030000
TZOFFSETFROM:-0500
TZOFFSETTO:-0400
TZNAME:EDT
END:DAYLIGHT
END:VTIMEZONE
END:VCALENDAR