BEGIN:VCALENDAR
VERSION:2.0
PRODID:-//wp-events-plugin.com//7.2.3.1//EN
TZID:America/New_York
X-WR-TIMEZONE:America/New_York
BEGIN:VEVENT
UID:152395@kingstonhappenings.org
DTSTART;TZID=America/New_York:20251024T190000
DTEND;TZID=America/New_York:20251024T190000
DTSTAMP:20251020T162109Z
URL:https://kingstonhappenings.org/events/the-strangehouse-vampire-cabaret
 -sideshow/
SUMMARY:The Strangehouse Vampire Cabaret & Sideshow!
DESCRIPTION:Step into the shadows this Halloween season for an evening of d
 ark delights and thrilling spectacle at The Strangehouse Vampire Cabaret &
 amp\; Sideshow.\nThis decadent evening channels the spirit of old-world ca
 baret with a dark twist! Featuring burlesque\, sword swallowing\, human bl
 ockhead stunts\, flow arts\, pole arts\, snake charming\, and more! Expect
  a night where vaudeville flair meets sideshow strangeness\, wrapped in a 
 moody\, vampiric aesthetic!\n Hosted by Tryst\, the evening blends gothic
  glamour with sideshow strangeness\, setting the stage for a night you won
 ’t forget. instagram.com/tryst_official\nPerformances By\nTryst\nWicked
  Red\nSizzlin Liz\nSweetie Lassoine\nDesiree De Sade\nThe Hanged Man\nSara
 h Chix\nBambi\nMiss Bellelesque\nRaffles\, Prizes\, Bring Your Dollars! Sp
 onsored by The Red Foxxx Lingerie &amp\; Wellness Shop in Woodstock shopt
 heredfoxxx.com\nAnd the night doesn’t end there—stick around after the
  show for the Vampire Dance Party with DJ Tryst\, where the beats and bloo
 dlust keep flowing into the late hours!\n The Colony\, Woodstock\, NY Fr
 iday\, October 24\nFellow Immortals must be 18+ up in human years to enter
  the Cabaret!\nJoin us to revel in the magic and mischief of the spooky se
 ason at its finest. Come dressed in your vampire finest and join us for a 
 celebration of the strange and the spectacular!\nSee you there!
ATTACH;FMTTYPE=image/jpeg:https://kingstonhappenings.org/wp-content/upload
 s/2025/10/559035036_1446361520622739_7866371832582999487_n.jpg
CATEGORIES:@Featured,@Newsletter,Music,Nightlife and entertainment
LOCATION:Colony Woodstock NY\, 22 Rock City Rd\, Woodstock\, New York\, Uni
 ted States
GEO:42.0424924;-74.11799489999999
X-APPLE-STRUCTURED-LOCATION;VALUE=URI;X-ADDRESS=22 Rock City Rd\, Woodstock
 \, New York\, United States;X-APPLE-RADIUS=100;X-TITLE=Colony Woodstock NY
 :geo:42.0424924,-74.11799489999999
END:VEVENT
BEGIN:VTIMEZONE
TZID:America/New_York
X-LIC-LOCATION:America/New_York
BEGIN:DAYLIGHT
DTSTART:20250309T030000
TZOFFSETFROM:-0500
TZOFFSETTO:-0400
TZNAME:EDT
END:DAYLIGHT
END:VTIMEZONE
END:VCALENDAR