BEGIN:VCALENDAR
VERSION:2.0
PRODID:-//wp-events-plugin.com//7.2.3.1//EN
TZID:America/New_York
X-WR-TIMEZONE:America/New_York
BEGIN:VEVENT
UID:156071@kingstonhappenings.org
DTSTART;TZID=America/New_York:20260402T193000
DTEND;TZID=America/New_York:20260402T193000
DTSTAMP:20260406T124343Z
URL:https://kingstonhappenings.org/events/the-soul-experience-ft-corey-glo
 ver-of-living-colour/
SUMMARY:The Soul Experience ft. Corey Glover (of Living Colour)
DESCRIPTION:Best known as the electrifying front man of the legendary\, Gra
 mmy Award-winning band Living Colour\, Corey Glover has launched an excit
 ing new project: The Soul Experience featuring Corey Glover. Named one of
  Billboard Magazine’s 50 Greatest Lead Singers of All Time\, Glover now
  returns to his roots with a sound that shaped his journey as an artist.
ATTACH;FMTTYPE=image/jpeg:https://kingstonhappenings.org/wp-content/upload
 s/2026/03/623446410_1308105014685101_2464761840438320354_n-1-e177488882342
 0.jpg
CATEGORIES:@Featured,@Newsletter,Music,Nightlife and entertainment
LOCATION:The Falcon\, 1348 Route 9W\, Marlboro\, NY\, United States
GEO:41.6061213;-73.97065420000001
X-APPLE-STRUCTURED-LOCATION;VALUE=URI;X-ADDRESS=1348 Route 9W\, Marlboro\, 
 NY\, United States;X-APPLE-RADIUS=100;X-TITLE=The Falcon:geo:41.6061213,-7
 3.97065420000001
END:VEVENT
BEGIN:VTIMEZONE
TZID:America/New_York
X-LIC-LOCATION:America/New_York
BEGIN:DAYLIGHT
DTSTART:20260308T030000
TZOFFSETFROM:-0500
TZOFFSETTO:-0400
TZNAME:EDT
END:DAYLIGHT
END:VTIMEZONE
END:VCALENDAR