BEGIN:VCALENDAR
VERSION:2.0
PRODID:-//wp-events-plugin.com//7.2.3.1//EN
TZID:America/New_York
X-WR-TIMEZONE:America/New_York
BEGIN:VEVENT
UID:152394@kingstonhappenings.org
DTSTART;TZID=America/New_York:20251023T190000
DTEND;TZID=America/New_York:20251023T190000
DTSTAMP:20251020T162107Z
URL:https://kingstonhappenings.org/events/the-sloppy-boys/
SUMMARY:THE SLOPPY BOYS
DESCRIPTION:The Sloppy Boys are a “party rock” band from LA consisting 
 of comedians Mike Hanford\, Jeff Dutton and Tim Kalpakis. Prior to forming
  The Sloppy Boys\, all three were writer performers on the sketch comedy s
 how “The Birthday Boys\,” produced by Bob Odenkirk\, which aired on IF
 C.\nTogether\, the Boys have self-released three albums\, Lifelong Vacatio
 n\, Dancing on the Wind\, and Paradiso. Their fourth\, Sonic Ranch\, was p
 roduced by Money Mark (Beastie Boys\, Beck) at the legendary Sonic Ranch S
 tudios in Texas. The entire process was captured by director Robert Holgui
 n for his feature-length comedy-rock-doc Blood\, Sweat and Beers or How Th
 e Sloppy Boys Made an Album on a Farm in West Texas. The Sloppy Boys also 
 host a weekly cocktail-making podcast\, ranked a Top 3 Comedy Podcast by V
 ulture. New episodes drop every Friday.\nhttps://www.thesloppyboys.com/
ATTACH;FMTTYPE=image/jpeg:https://kingstonhappenings.org/wp-content/upload
 s/2025/10/515439094_1368469798411912_6648682745725617834_n.jpg
CATEGORIES:@Featured,@Newsletter,Music,Nightlife and entertainment
LOCATION:Colony Woodstock NY\, 22 Rock City Rd\, Woodstock\, New York\, Uni
 ted States
GEO:42.0424924;-74.11799489999999
X-APPLE-STRUCTURED-LOCATION;VALUE=URI;X-ADDRESS=22 Rock City Rd\, Woodstock
 \, New York\, United States;X-APPLE-RADIUS=100;X-TITLE=Colony Woodstock NY
 :geo:42.0424924,-74.11799489999999
END:VEVENT
BEGIN:VTIMEZONE
TZID:America/New_York
X-LIC-LOCATION:America/New_York
BEGIN:DAYLIGHT
DTSTART:20250309T030000
TZOFFSETFROM:-0500
TZOFFSETTO:-0400
TZNAME:EDT
END:DAYLIGHT
END:VTIMEZONE
END:VCALENDAR