BEGIN:VCALENDAR
VERSION:2.0
PRODID:-//wp-events-plugin.com//7.2.3.1//EN
TZID:America/New_York
X-WR-TIMEZONE:America/New_York
BEGIN:VEVENT
UID:152204@kingstonhappenings.org
DTSTART;TZID=America/New_York:20251022T190000
DTEND;TZID=America/New_York:20251022T203000
DTSTAMP:20251007T114712Z
URL:https://kingstonhappenings.org/events/the-six-bells-rosendale-theatre-
 present-cozy-with-a-chance-of-murder/
SUMMARY:The Six Bells &amp\; Rosendale Theatre Present: Cozy\, with a Chanc
 e of Murder
DESCRIPTION:The evening begins with a $50 prix fixe dinner at The Feathers 
 Tavern\, followed by a cozy murder mystery screening for $10 at The Rosend
 ale Theatre. An autumn supper followed by dimmed lights\, and an evening o
 f mystery—$60 in total. Dinner reservations are available via Resy. Clic
 k the RSVP button to make your reservation today. Standalone tickets can b
 e purchased.\n\nAbout the Movie: Lionel Twain invites the world’s five g
 reatest detectives to a ‘dinner and murder’. With the personal styles 
 of a bunch of great actors\, and a unique style of introducing a lot of ch
 aracters and letting them weave their way through a labyrinthine plot\, an
  Altman film is like a party with no boring guests. Lionel Twain invites t
 he world’s five greatest detectives to a ‘dinner and murder’. Includ
 ed are a blind butler\, a deaf-mute maid\, screams\, spinning rooms\, secr
 et passages\, false identities and more plot turns and twists than should 
 be decently allowed.\n\nInfluenced by Jean Renoir's French classic\, The R
 ules of the Game\, Gosford Park also reveals meticulous details about the 
 dress and the dynamics between the British upper class and the British low
 er classes.
ATTACH;FMTTYPE=image/jpeg:https://kingstonhappenings.org/wp-content/upload
 s/2025/10/Gosford-Park-sm.png
CATEGORIES:@Featured,Movies
LOCATION:Rosendale Theater\, 408 Main St\, Rosendale\, New York\, 12472\, U
 nited States
GEO:41.8441401;-74.0821133
X-APPLE-STRUCTURED-LOCATION;VALUE=URI;X-ADDRESS=408 Main St\, Rosendale\, N
 ew York\, 12472\, United States;X-APPLE-RADIUS=100;X-TITLE=Rosendale Theat
 er:geo:41.8441401,-74.0821133
END:VEVENT
BEGIN:VTIMEZONE
TZID:America/New_York
X-LIC-LOCATION:America/New_York
BEGIN:DAYLIGHT
DTSTART:20250309T030000
TZOFFSETFROM:-0500
TZOFFSETTO:-0400
TZNAME:EDT
END:DAYLIGHT
END:VTIMEZONE
END:VCALENDAR