BEGIN:VCALENDAR
VERSION:2.0
PRODID:-//wp-events-plugin.com//7.2.3.1//EN
TZID:America/New_York
X-WR-TIMEZONE:America/New_York
BEGIN:VEVENT
UID:153282@kingstonhappenings.org
DTSTART;TZID=America/New_York:20260110T170000
DTEND;TZID=America/New_York:20260110T194500
DTSTAMP:20251223T223218Z
URL:https://kingstonhappenings.org/events/the-secret-agent-2/
SUMMARY:The Secret Agent
DESCRIPTION:Marcelo is a former academic on the run who arrives in Recife d
 uring Carnival hoping to reunite with his son\, only to find that escape i
 s far from simple as he navigates a landscape of state surveillance\, corr
 uption\, and underground resistance. This gripping political thriller is s
 et in Brazil in 1977 during the height of the country’s military dictato
 rship. Directed by acclaimed filmmaker Kleber Mendonça Filho and featurin
 g a powerful performance by Wagner Moura\, the film blends tension\, dark 
 humor\, and drama as Marcelo seeks refuge with fellow dissidents while bei
 ng hunted by those determined to silence him\, delivering a richly atmosph
 eric and emotionally charged portrait of courage and memory under authorit
 arian rule.\n\n&nbsp\;\n\n“The Secret Agent gives us one of the best p
 erformances of the year from Moura…subtly tremendous.” -Ross Bonaime.
ATTACH;FMTTYPE=image/jpeg:https://kingstonhappenings.org/wp-content/upload
 s/2025/12/The-Secret-Agent-sm-1.jpg
CATEGORIES:@Featured,Movies
LOCATION:Rosendale Theater\, 408 Main St\, Rosendale\, New York\, 12472\, U
 nited States
GEO:41.8441401;-74.0821133
X-APPLE-STRUCTURED-LOCATION;VALUE=URI;X-ADDRESS=408 Main St\, Rosendale\, N
 ew York\, 12472\, United States;X-APPLE-RADIUS=100;X-TITLE=Rosendale Theat
 er:geo:41.8441401,-74.0821133
END:VEVENT
BEGIN:VTIMEZONE
TZID:America/New_York
X-LIC-LOCATION:America/New_York
BEGIN:STANDARD
DTSTART:20251102T010000
TZOFFSETFROM:-0400
TZOFFSETTO:-0500
TZNAME:EST
END:STANDARD
END:VTIMEZONE
END:VCALENDAR