BEGIN:VCALENDAR
VERSION:2.0
PRODID:-//wp-events-plugin.com//7.2.3.1//EN
TZID:America/New_York
X-WR-TIMEZONE:America/New_York
BEGIN:VEVENT
UID:151898@kingstonhappenings.org
DTSTART;TZID=America/New_York:20250927T210000
DTEND;TZID=America/New_York:20250927T233000
DTSTAMP:20250917T012615Z
URL:https://kingstonhappenings.org/events/the-rocky-horror-picture-show/
SUMMARY:The Rocky Horror Picture Show
DESCRIPTION:Rocky Horror with Apoca-Lips Cast\, is coming to Rosendale for 
 the 50-year anniversary of the film!\n\nThe Apoca-Lips Cast is an amateur 
 theatrical group that has been performing The Rocky Horror Picture Show at
  venues in New York\, Connecticut\, New Jersey\, and Pennsylvania since 20
 00. Members have provided Rocky Horror and drag performances at venues and
  events in the Hudson Valley as far back as the late 1990s.\n\nThe Apoca-L
 ips Cast has been featured on WPDH 101.5 FM\, Radio Chatskill 90.5 FM\, an
 d The Feinics Gate Podcast.\n\nThe Rocky Horror Picture Show is an America
 n classic\, featuring not only the film\, but live performance by a costum
 ed cast and audience participation (dressing up as characters from the fil
 m\, shouting lines\, dancing in the aisles\, throwing toilet paper\, etc.)
 . The rock musical B-movie spoof has been running continuously in the Unit
 ed States since 1975 and is best known for the popular dance number “The
  Time Warp.” The film is rated R\, and many of the shouted audience part
 icipation lines include adult language.
ATTACH;FMTTYPE=image/jpeg:https://kingstonhappenings.org/wp-content/upload
 s/2025/09/Rocky-Horror-sm-1.png
CATEGORIES:@Featured,Movies,Nightlife and entertainment,Theater
LOCATION:Rosendale Theater\, 408 Main St\, Rosendale\, New York\, 12472\, U
 nited States
GEO:41.8441401;-74.0821133
X-APPLE-STRUCTURED-LOCATION;VALUE=URI;X-ADDRESS=408 Main St\, Rosendale\, N
 ew York\, 12472\, United States;X-APPLE-RADIUS=100;X-TITLE=Rosendale Theat
 er:geo:41.8441401,-74.0821133
END:VEVENT
BEGIN:VTIMEZONE
TZID:America/New_York
X-LIC-LOCATION:America/New_York
BEGIN:DAYLIGHT
DTSTART:20250309T030000
TZOFFSETFROM:-0500
TZOFFSETTO:-0400
TZNAME:EDT
END:DAYLIGHT
END:VTIMEZONE
END:VCALENDAR