BEGIN:VCALENDAR
VERSION:2.0
PRODID:-//wp-events-plugin.com//7.2.3.1//EN
TZID:America/New_York
X-WR-TIMEZONE:America/New_York
BEGIN:VEVENT
UID:153322@kingstonhappenings.org
DTSTART;TZID=America/New_York:20260103T193000
DTEND;TZID=America/New_York:20260103T193000
DTSTAMP:20251229T155757Z
URL:https://kingstonhappenings.org/events/the-restless-age-the-falcon/
SUMMARY:The Restless Age @ The Falcon
DESCRIPTION:Rooted in New York’s Hudson Valley\, The Restless Age —Lee 
 Falco\, Will Bryant\, and Brandon Morrison—have carved out a distinct pl
 ace in the rock and indie landscape with their rich harmonies\, timeless s
 ound\, and exceptional musicianship. Known for their deep roots in the ric
 h musical traditions of rock and soul\, the band has seamlessly transition
 ed between supporting legendary artists and forging their own path as a po
 werhouse trio.
ATTACH;FMTTYPE=image/jpeg:https://kingstonhappenings.org/wp-content/upload
 s/2025/12/579645640_1248171137345156_8084305005635853570_n-1.jpg
CATEGORIES:@Featured,@Newsletter,Music,Nightlife and entertainment
LOCATION:The Falcon\, 1348 Route 9W\, Marlboro\, NY\, United States
GEO:41.6061213;-73.97065420000001
X-APPLE-STRUCTURED-LOCATION;VALUE=URI;X-ADDRESS=1348 Route 9W\, Marlboro\, 
 NY\, United States;X-APPLE-RADIUS=100;X-TITLE=The Falcon:geo:41.6061213,-7
 3.97065420000001
END:VEVENT
BEGIN:VTIMEZONE
TZID:America/New_York
X-LIC-LOCATION:America/New_York
BEGIN:STANDARD
DTSTART:20251102T010000
TZOFFSETFROM:-0400
TZOFFSETTO:-0500
TZNAME:EST
END:STANDARD
END:VTIMEZONE
END:VCALENDAR