BEGIN:VCALENDAR
VERSION:2.0
PRODID:-//wp-events-plugin.com//7.2.3.1//EN
TZID:America/New_York
X-WR-TIMEZONE:America/New_York
BEGIN:VEVENT
UID:153384@kingstonhappenings.org
DTSTART;TZID=America/New_York:20260118T140000
DTEND;TZID=America/New_York:20260118T153000
DTSTAMP:20260112T151208Z
URL:https://kingstonhappenings.org/events/the-princess-bride/
SUMMARY:The Princess Bride
DESCRIPTION:The Princess Bride (1987) is a timeless fairy-tale adventure th
 at blends romance\, comedy\, and unforgettable characters. Framed as a sto
 rybook read aloud\, the film follows the dashing farmhand-turned-hero West
 ley as he braves swordsmen\, giants\, scheming princes\, and the perils of
  true love to rescue the beautiful Buttercup. With endlessly quotable dial
 ogue\, playful subversions of classic fairy-tale tropes\, and heartfelt ch
 arm\, The Princess Bride is a film beloved across generations—equally en
 chanting for first-time viewers and devoted fans alike.
ATTACH;FMTTYPE=image/jpeg:https://kingstonhappenings.org/wp-content/upload
 s/2026/01/Princess-bride-sm.jpg
CATEGORIES:@Featured,@Newsletter,For kids,Movies,Nightlife and
 entertainment
LOCATION:Rosendale Theater\, 408 Main St\, Rosendale\, New York\, 12472\, U
 nited States
GEO:41.8441401;-74.0821133
X-APPLE-STRUCTURED-LOCATION;VALUE=URI;X-ADDRESS=408 Main St\, Rosendale\, N
 ew York\, 12472\, United States;X-APPLE-RADIUS=100;X-TITLE=Rosendale Theat
 er:geo:41.8441401,-74.0821133
END:VEVENT
BEGIN:VTIMEZONE
TZID:America/New_York
X-LIC-LOCATION:America/New_York
BEGIN:STANDARD
DTSTART:20251102T010000
TZOFFSETFROM:-0400
TZOFFSETTO:-0500
TZNAME:EST
END:STANDARD
END:VTIMEZONE
END:VCALENDAR