BEGIN:VCALENDAR
VERSION:2.0
PRODID:-//wp-events-plugin.com//7.2.3.1//EN
TZID:America/New_York
X-WR-TIMEZONE:America/New_York
BEGIN:VEVENT
UID:152304@kingstonhappenings.org
DTSTART;TZID=America/New_York:20251018T190000
DTEND;TZID=America/New_York:20251018T190000
DTSTAMP:20251013T172047Z
URL:https://kingstonhappenings.org/events/the-pink-floyd-project/
SUMMARY:The Pink floyd Project
DESCRIPTION:Returning! The Pink floyd Project performs "Wish You Were Here"
  Live for the 50th Anniversary of the albums release! We will recreate the
  album in it's entirety plus songs from Animals\, The Wall\, Dark Side of 
 the Moon\, and more! Don't miss this show!\nColony WoodstockSaturday\, Oct
 ober 18th - Doors open at 6pm - Showtime 7-10pm22 Rock City Rd\, Woodstock
 \, NY 12498
ATTACH;FMTTYPE=image/jpeg:https://kingstonhappenings.org/wp-content/upload
 s/2025/10/555804715_1116896500509032_5357317594108276316_n.jpg
CATEGORIES:@Featured,@Newsletter,Music,Nightlife and entertainment
LOCATION:Colony Woodstock NY\, 22 Rock City Rd\, Woodstock\, New York\, Uni
 ted States
GEO:42.0424924;-74.11799489999999
X-APPLE-STRUCTURED-LOCATION;VALUE=URI;X-ADDRESS=22 Rock City Rd\, Woodstock
 \, New York\, United States;X-APPLE-RADIUS=100;X-TITLE=Colony Woodstock NY
 :geo:42.0424924,-74.11799489999999
END:VEVENT
BEGIN:VTIMEZONE
TZID:America/New_York
X-LIC-LOCATION:America/New_York
BEGIN:DAYLIGHT
DTSTART:20250309T030000
TZOFFSETFROM:-0500
TZOFFSETTO:-0400
TZNAME:EDT
END:DAYLIGHT
END:VTIMEZONE
END:VCALENDAR