BEGIN:VCALENDAR
VERSION:2.0
PRODID:-//wp-events-plugin.com//7.2.3.1//EN
TZID:America/New_York
X-WR-TIMEZONE:America/New_York
BEGIN:VEVENT
UID:153325@kingstonhappenings.org
DTSTART;TZID=America/New_York:20260104T190000
DTEND;TZID=America/New_York:20260104T190000
DTSTAMP:20251229T160418Z
URL:https://kingstonhappenings.org/events/the-outcrops-x-lincoln-durham/
SUMMARY:The Outcrops x Lincoln Durham
DESCRIPTION:The Outcrops were named "NJ Band of the Year" ('The Aquarian\, 
 2020) for "three reasons: a work ethic that makes them one of the Dirty Je
 rz’s hardest-working bands\, guitar-playing that fuses the sounds of Dua
 ne Allman and Jerry Garcia\, and a refreshing fusion of roots\, soul\, blu
 es\, funk\, and psychedelic rock that sounds wholly new while comfortably 
 familiar." They have dug their roots into the music of rock'n'roll\, blues
 \, jazz\, funk\, folk\, and soul legends\, choosing B-side tunes to put th
 eir own spin on. Within their show\, they may pay homage to bands such as 
 the Grateful Dead &amp\; the Band\, or artists such as BB King &amp\; Aret
 ha Franklin. Their original music stems from that same soulful soil\, rang
 ing from gritty blues to upbeat Americana.\nThe Outcrops' journey has been
  marked by milestones\, such as sharing the stage with acts like The Outla
 ws\, Three Dog Night\, Alexis P. Suter\, Kat Wright\, and King Solomon Hic
 ks\, to gracing the lineups of festivals such as Rock\, Ribs\, &amp\; Ridg
 es\, the Anglesea Blues Festival\, Musikfest\, and Meeting of the Minds. T
 heir performance earned them 1st place in the 2nd Annual SOPAC Blues Chall
 enge back in 2017 and 1st place in the North Jersey Blues Challenge (2025)
 \, sending them to Memphis in 2026.\nwww.theoutcrops.com\nLincoln DurhamAr
 med with old bastardized mid-century guitars\, hand-me-down fiddles and ba
 njos\, home-made contraptions with just enough tension on a string to be c
 onsidered an instrument and any random percussive item he can get his hand
 s or feet on\, Lincoln Durham is a Southern-Gothic One-Man-Band with a hea
 vy amped edge\, preaching the gospel of some new kind of depraved music. W
 ith driving guttural beats backboning various growling instruments Lincoln
  gives birth to a sound that transcends genres with his dark\, poetic and 
 raw writing style telling tales that E.A. Poe would have been proud of. Li
 ncoln’s musical odyssey began when his grandpa and father put a fiddle i
 n his hands at age 4. He would grow into an accomplished fiddle player win
 ning the Youth Fiddle Championship at age 10. Lincoln afterward followed t
 he path so many musicians have\, finding his vice in the seductive\, siren
 -like callings of the electric guitar. Lincoln’s true biography is in hi
 s live show. The passion in his sweat drenched\, electrifyingly mesmerizin
 g one-man-band show draws you in to feel every scar and drop of blood in h
 is painfully intimate lyrics. It takes something beautifully “off” to 
 get on stage with just hands and feet for a band\, driven by a howling voi
 ce\, and morbidly preach a music that harkens back to Son House and Fred M
 cDowell\, infused with the angst of Nick Cave then darkened and colored fr
 om the influences of Tom Waits.\n\nhttps://www.lincolndurham.com/
ATTACH;FMTTYPE=image/jpeg:https://kingstonhappenings.org/wp-content/upload
 s/2025/12/589056264_1495289919063232_3075867447973688809_n.jpg
CATEGORIES:@Featured,@Newsletter,Music,Nightlife and entertainment
LOCATION:Colony Woodstock NY\, 22 Rock City Rd\, Woodstock\, New York\, Uni
 ted States
GEO:42.0424924;-74.11799489999999
X-APPLE-STRUCTURED-LOCATION;VALUE=URI;X-ADDRESS=22 Rock City Rd\, Woodstock
 \, New York\, United States;X-APPLE-RADIUS=100;X-TITLE=Colony Woodstock NY
 :geo:42.0424924,-74.11799489999999
END:VEVENT
BEGIN:VTIMEZONE
TZID:America/New_York
X-LIC-LOCATION:America/New_York
BEGIN:STANDARD
DTSTART:20251102T010000
TZOFFSETFROM:-0400
TZOFFSETTO:-0500
TZNAME:EST
END:STANDARD
END:VTIMEZONE
END:VCALENDAR