BEGIN:VCALENDAR
VERSION:2.0
PRODID:-//wp-events-plugin.com//7.2.3.1//EN
TZID:America/New_York
X-WR-TIMEZONE:America/New_York
BEGIN:VEVENT
UID:153052@kingstonhappenings.org
DTSTART;TZID=America/New_York:20251213T160000
DTEND;TZID=America/New_York:20251213T160000
DTSTAMP:20251208T145620Z
URL:https://kingstonhappenings.org/events/the-nutcracker-catskill-ballet-t
 heatre-presents-2/
SUMMARY:The Nutcracker Catskill: Ballet Theatre Presents
DESCRIPTION:For four decades\, Catskill Ballet Theatre’s The Nutcracke
 r has been a cherished part of the Hudson Valley’s holiday season\, ench
 anting audiences of all ages with its timeless story\, magical sets\, and 
 stunning choreography. This anniversary year promises to be a milestone ce
 lebration of artistry\, tradition\, and community.\n\n“We are thrilled t
 o mark our 40th anniversary of The Nutcracker with such extraordinary tale
 nt gracing our stage\,” said Melissa Bierstock\, Artistic Director of th
 e Catskill Ballet Theatre. “This production is not only a holiday tra
 dition\, but a reflection of the generations of dancers and families who h
 ave grown with us over the years.”\n\nJoin us as we follow the enchanted
  adventures of young Clara from a lavish Christmas party\, to a battle wit
 h an evil Queen Mouse\, through a winter wonderland of snow and ice\, and 
 then to the magnificent Land of Sweets where she meets the Sugar Plum Fair
 y and Cavalier with entertainment from delightful dances from around the w
 orld!
ATTACH;FMTTYPE=image/jpeg:https://kingstonhappenings.org/wp-content/upload
 s/2025/12/UPAC-with-logo-1000x800-1-990x792-1.jpg
CATEGORIES:@Featured,@Newsletter,Community,Dance,For kids,Nightlife and
 entertainment
LOCATION:Ulster Performing Arts Center (UPAC)\, 601 Broadway\, Kingston\, N
 ew York\, 12401\, United States
GEO:41.92931799999999;-74.004142
X-APPLE-STRUCTURED-LOCATION;VALUE=URI;X-ADDRESS=601 Broadway\, Kingston\, N
 ew York\, 12401\, United States;X-APPLE-RADIUS=100;X-TITLE=Ulster Performi
 ng Arts Center (UPAC):geo:41.92931799999999,-74.004142
END:VEVENT
BEGIN:VTIMEZONE
TZID:America/New_York
X-LIC-LOCATION:America/New_York
BEGIN:STANDARD
DTSTART:20251102T010000
TZOFFSETFROM:-0400
TZOFFSETTO:-0500
TZNAME:EST
END:STANDARD
END:VTIMEZONE
END:VCALENDAR