BEGIN:VCALENDAR
VERSION:2.0
PRODID:-//wp-events-plugin.com//7.2.3.1//EN
TZID:America/New_York
X-WR-TIMEZONE:America/New_York
BEGIN:VEVENT
UID:152206@kingstonhappenings.org
DTSTART;TZID=America/New_York:20251024T190000
DTEND;TZID=America/New_York:20251024T210000
DTSTAMP:20251020T162108Z
URL:https://kingstonhappenings.org/events/the-nields-in-concert/
SUMMARY:The Nields in Concert
DESCRIPTION:Join us for an evening of great music. Come and be joyous and i
 nvigorated with delight!\n\n“Imagine if Natalie Merchant had a sister wi
 th an equally good voice singing perfect harmony with her…intimate and e
 lectric.” – Sing Out! Magazine\n\nWith their unparalleled ability to b
 lend pop craftsmanship\, folk sensibility\, and the influences of ’60s c
 lassic rock and ’90s alternative\, The Nields have created a distinctive
  musical style that defies categorization. Their songs\, imbued with intel
 ligence and occasional humor\, offer poignant observations on life’s une
 xpected twists and turns. Apple Music describes their sound as “equal pa
 rts The Beatles\, the Cranberries\, and Joni Mitchell\,” a testament to 
 their unique fusion of melodic sensibilities\n\n“As the work of the Ever
 ly Brothers or the McGarrigle Sisters has amply demonstrated\, there are f
 ew sounds as sublime as close harmonies rendered by siblings. In the case 
 of western Massachusetts folk rockers the Nields\, the siblings are sister
 s Nerissa and Katryna Nields\, and their inimitable vocal blend is a disar
 ming mix of clean folk harmonies and clenched Generation-X angst.” – T
 he Chicago Tribune
ATTACH;FMTTYPE=image/jpeg:https://kingstonhappenings.org/wp-content/upload
 s/2025/10/NIE10181-683x1024-1.jpg
CATEGORIES:@Featured,@Newsletter,Music
LOCATION:Rosendale Theater\, 408 Main St\, Rosendale\, New York\, 12472\, U
 nited States
GEO:41.8441401;-74.0821133
X-APPLE-STRUCTURED-LOCATION;VALUE=URI;X-ADDRESS=408 Main St\, Rosendale\, N
 ew York\, 12472\, United States;X-APPLE-RADIUS=100;X-TITLE=Rosendale Theat
 er:geo:41.8441401,-74.0821133
END:VEVENT
BEGIN:VTIMEZONE
TZID:America/New_York
X-LIC-LOCATION:America/New_York
BEGIN:DAYLIGHT
DTSTART:20250309T030000
TZOFFSETFROM:-0500
TZOFFSETTO:-0400
TZNAME:EDT
END:DAYLIGHT
END:VTIMEZONE
END:VCALENDAR