BEGIN:VCALENDAR
VERSION:2.0
PRODID:-//wp-events-plugin.com//7.2.3.1//EN
TZID:America/New_York
X-WR-TIMEZONE:America/New_York
BEGIN:VEVENT
UID:153323@kingstonhappenings.org
DTSTART;TZID=America/New_York:20260101T193000
DTEND;TZID=America/New_York:20260101T193000
DTSTAMP:20251229T165023Z
URL:https://kingstonhappenings.org/events/the-new-york-ska-jazz-ensemble-n
 ysje/
SUMMARY:The New York Ska-Jazz Ensemble (NYSJE)
DESCRIPTION:Ft. “Rocksteady Freddie” Reiter (bandleader\, saxophone\, f
 lute\, vocals)\, Kevin “KB” Batchelor (trumpet\, vocals)\, Mark Damon 
 (bass\, vocals)\, Cary Brown (keyboards\, vocals)\, Andy Stack (guitar\, v
 ocals)\, Craig Santiago (drums)\nThe New York Ska-Jazz Ensemble (NYSJE) is
  a powerhouse collective that seamlessly fuses the infectious rhythms of s
 ka with the improvisational brilliance of jazz. Since originating the genr
 e of “ska-jazz” in 1994\, the group\, led by founder Rocksteady Freddi
 e\, has been at the forefront of the global ska and jazz crossover\, deliv
 ering high-energy performances and masterful musicianship.
ATTACH;FMTTYPE=image/jpeg:https://kingstonhappenings.org/wp-content/upload
 s/2025/12/585146492_1254583780037225_8532022363539601087_n.jpg
CATEGORIES:@Featured,@Newsletter,Festivals and major community
 events,Music,Nightlife and entertainment
LOCATION:The Falcon\, 1348 Route 9W\, Marlboro\, NY\, United States
GEO:41.6061213;-73.97065420000001
X-APPLE-STRUCTURED-LOCATION;VALUE=URI;X-ADDRESS=1348 Route 9W\, Marlboro\, 
 NY\, United States;X-APPLE-RADIUS=100;X-TITLE=The Falcon:geo:41.6061213,-7
 3.97065420000001
END:VEVENT
BEGIN:VTIMEZONE
TZID:America/New_York
X-LIC-LOCATION:America/New_York
BEGIN:STANDARD
DTSTART:20251102T010000
TZOFFSETFROM:-0400
TZOFFSETTO:-0500
TZNAME:EST
END:STANDARD
END:VTIMEZONE
END:VCALENDAR