BEGIN:VCALENDAR
VERSION:2.0
PRODID:-//wp-events-plugin.com//7.2.3.1//EN
TZID:America/New_York
X-WR-TIMEZONE:America/New_York
BEGIN:VEVENT
UID:152944@kingstonhappenings.org
DTSTART;TZID=America/New_York:20251205T200000
DTEND;TZID=America/New_York:20251205T213000
DTSTAMP:20251125T215843Z
URL:https://kingstonhappenings.org/events/the-nature-of-nature-biodiversit
 y-in-the-hudson-valley/
SUMMARY:The Nature of Nature: Biodiversity in the Hudson Valley
DESCRIPTION:An ode to the remarkable variety of life in the Hudson Valley\,
  The Nature of Nature: Biodiversity in the Hudson Valley celebrates the li
 ving fabric of this unique landscape. From high elevation forests to the g
 lobally rare tidal marshes along the Hudson estuary\, the film captures th
 e beautiful\, the complex\, the familiar\, and the unknown…guided by the
  plants\, animals\, and people that call the Hudson Valley home.\n\nJoin u
 s for an encore screening followed by a panel with the director\, producer
 s\, cinematographers\, and photographers of The Nature of Nature\, includi
 ng:\n\n 	Laura deNey\, Nature of Nature Director &amp\; Producer and Fou
 nder / Co-owner of Flicker Filmworks\n 	Laura Heady\, Nature of Nature
  Producer and Biologist\, Hudson River Estuary Program and Cornell Unive
 rsity\n 	Mustafa Bhagat\, Nature of Nature Cinematographer &amp\; Produc
 er and Founder / Co-owner of Flicker Filmworks\n 	Fred McCagg\, Rensselae
 r County-based photographer\, Licensed Guide\, and Board President of Hud
 son Taconic Lands\n 	Frank Beres\, Ulster County-based photographer and Ec
 ologist at NYC Department of Environmental Protection\n\nDirected by Emmy
 -award winning Laura deNey and produced by Flicker Filmworks in partnershi
 p with Laura Heady at the DEC Hudson River Estuary Program and Cornell Uni
 versity.\n\nThe Nature of Nature was funded by the New York State Departme
 nt of Environmental Conservation through the New York State Environmental 
 Protection Fund in partnership with NEIWPCC.
ATTACH;FMTTYPE=image/jpeg:https://kingstonhappenings.org/wp-content/upload
 s/2025/11/Nature-of-Nature-sm.jpg
CATEGORIES:@Featured,Movies
LOCATION:Rosendale Theater\, 408 Main St\, Rosendale\, New York\, 12472\, U
 nited States
GEO:41.8441401;-74.0821133
X-APPLE-STRUCTURED-LOCATION;VALUE=URI;X-ADDRESS=408 Main St\, Rosendale\, N
 ew York\, 12472\, United States;X-APPLE-RADIUS=100;X-TITLE=Rosendale Theat
 er:geo:41.8441401,-74.0821133
END:VEVENT
BEGIN:VTIMEZONE
TZID:America/New_York
X-LIC-LOCATION:America/New_York
BEGIN:STANDARD
DTSTART:20251102T010000
TZOFFSETFROM:-0400
TZOFFSETTO:-0500
TZNAME:EST
END:STANDARD
END:VTIMEZONE
END:VCALENDAR