BEGIN:VCALENDAR
VERSION:2.0
PRODID:-//wp-events-plugin.com//7.2.3.1//EN
TZID:America/New_York
X-WR-TIMEZONE:America/New_York
BEGIN:VEVENT
UID:156398@kingstonhappenings.org
DTSTART;TZID=America/New_York:20260425T190000
DTEND;TZID=America/New_York:20260425T190000
DTSTAMP:20260420T144200Z
URL:https://kingstonhappenings.org/events/the-mountain-jam-band-an-allman-
 brothers-tribute-colony/
SUMMARY:The Mountain Jam Band - An Allman Brothers Tribute @ Colony
DESCRIPTION:The Mountain Jam Band brings the music of the Allman Brothers t
 o life with high-energy jams\, deep improvisation\, and a ride through eve
 ry era of ABB. MJB goes beyond note-for-note tribute\, weaving in Allmans-
 adjacent favorites from Tedeschi Trucks Band\, Derek &amp\; The Dominos\, 
 and more. Fans may come for the classics\, but they keep coming back for T
 he Mountain Jam Band.\n\n\nhttps://www.mountainjamband.com/
ATTACH;FMTTYPE=image/jpeg:https://kingstonhappenings.org/wp-content/upload
 s/2026/04/627991318_901612452228542_5780395881200093895_n.jpg
CATEGORIES:@Featured,@Newsletter,Music,Nightlife and entertainment
LOCATION:Colony Woodstock NY\, 22 Rock City Rd\, Woodstock\, New York\, Uni
 ted States
GEO:42.0424924;-74.11799489999999
X-APPLE-STRUCTURED-LOCATION;VALUE=URI;X-ADDRESS=22 Rock City Rd\, Woodstock
 \, New York\, United States;X-APPLE-RADIUS=100;X-TITLE=Colony Woodstock NY
 :geo:42.0424924,-74.11799489999999
END:VEVENT
BEGIN:VTIMEZONE
TZID:America/New_York
X-LIC-LOCATION:America/New_York
BEGIN:DAYLIGHT
DTSTART:20260308T030000
TZOFFSETFROM:-0500
TZOFFSETTO:-0400
TZNAME:EDT
END:DAYLIGHT
END:VTIMEZONE
END:VCALENDAR