BEGIN:VCALENDAR
VERSION:2.0
PRODID:-//wp-events-plugin.com//7.2.3.1//EN
TZID:America/New_York
X-WR-TIMEZONE:America/New_York
BEGIN:VEVENT
UID:155797@kingstonhappenings.org
DTSTART;TZID=America/New_York:20260313T190000
DTEND;TZID=America/New_York:20260313T220000
DTSTAMP:20260309T122231Z
URL:https://kingstonhappenings.org/events/the-mezcal-table/
SUMMARY:The Mezcal Table
DESCRIPTION:The Mezcal Table is a celebratory gathering built around an abu
 ndant spread of chef-driven shared plates by Fancy Feast Supper Club\, alo
 ngside curated mezcal tastings and classic cocktails from Panzón BK. Expe
 ct bold flavors\, thoughtful pairings\, and the kind of convivial energy t
 hat turns a dinner into an experience.\nEACH TICKET INCLUDES:\n• An abun
 dant selection of shared plates\n• One guided mezcal tasting flight\n•
  Access to classic mezcal cocktails available for purchase\n• Music and 
 space to linger\nA portion of ticket proceeds will support Columbia County
  Sanctuary Movement (CCSM) and The Defense Project\, organizations committ
 ed to advocacy\, legal support\, and community protection.\nTICKET INFORMA
 TION:\n(Creative Legion) Member Ticket: $70 (promo code in Member Memo)\n\
 nGeneral Admission (Non-Member): $80\nNIGHT OF ADD-ON DONATION:\nGuests ma
 y choose to contribute an additional donation to directly support CCSM and
  The Defense Project during event.
ATTACH;FMTTYPE=image/jpeg:https://kingstonhappenings.org/wp-content/upload
 s/2026/03/THE-MEZCAL-TABLE-v2.png
CATEGORIES:@Featured,Art,Community,Nightlife and entertainment,Restaurant
 promotions
LOCATION:(Creative Legion)\, 7 Fairview Ave\, Hudson\, NY\, 12534\, NY\, Un
 ited States
GEO:42.247276;-73.774149
X-APPLE-STRUCTURED-LOCATION;VALUE=URI;X-ADDRESS=7 Fairview Ave\, Hudson\, N
 Y\, 12534\, NY\, United States;X-APPLE-RADIUS=100;X-TITLE=(Creative Legion
 ):geo:42.247276,-73.774149
END:VEVENT
BEGIN:VTIMEZONE
TZID:America/New_York
X-LIC-LOCATION:America/New_York
BEGIN:DAYLIGHT
DTSTART:20260308T030000
TZOFFSETFROM:-0500
TZOFFSETTO:-0400
TZNAME:EDT
END:DAYLIGHT
END:VTIMEZONE
END:VCALENDAR