BEGIN:VCALENDAR
VERSION:2.0
PRODID:-//wp-events-plugin.com//7.2.3.1//EN
TZID:America/New_York
X-WR-TIMEZONE:America/New_York
BEGIN:VEVENT
UID:151982@kingstonhappenings.org
DTSTART;TZID=America/New_York:20250919T190000
DTEND;TZID=America/New_York:20250919T190000
DTSTAMP:20250919T001443Z
URL:https://kingstonhappenings.org/events/the-lone-riders/
SUMMARY:The Lone Riders
DESCRIPTION:Lifelong friends in Woodstock\, the Lone Riders started jamming
  for fun and a band was formed! Featuring music of the Grateful Dead and o
 thers\, they channel their individual musical influences into a creative\,
  musically evolving unit. The songs\, instantly recognizable\, but newly i
 nterpreted\, lending an air of spontaneity to each performance. Expect an 
 evening of soulful\, rocking grooves that will have you singing\, dancing 
 and smiling!
ATTACH;FMTTYPE=image/jpeg:https://kingstonhappenings.org/wp-content/upload
 s/2025/09/lone-riders.png
CATEGORIES:@Featured,@Newsletter,Music,Nightlife and entertainment
LOCATION:Keegan Ales\, 20 Saint James Street\, Kingston\, NY\, 12401\, Unit
 ed States
GEO:41.931504;-74.01187
X-APPLE-STRUCTURED-LOCATION;VALUE=URI;X-ADDRESS=20 Saint James Street\, Kin
 gston\, NY\, 12401\, United States;X-APPLE-RADIUS=100;X-TITLE=Keegan Ales:
 geo:41.931504,-74.01187
END:VEVENT
BEGIN:VTIMEZONE
TZID:America/New_York
X-LIC-LOCATION:America/New_York
BEGIN:DAYLIGHT
DTSTART:20250309T030000
TZOFFSETFROM:-0500
TZOFFSETTO:-0400
TZNAME:EDT
END:DAYLIGHT
END:VTIMEZONE
END:VCALENDAR