BEGIN:VCALENDAR
VERSION:2.0
PRODID:-//wp-events-plugin.com//7.2.3.1//EN
TZID:America/New_York
X-WR-TIMEZONE:America/New_York
BEGIN:VEVENT
UID:152638@kingstonhappenings.org
DTSTART;TZID=America/New_York:20251116T200000
DTEND;TZID=America/New_York:20251116T200000
DTSTAMP:20251110T222144Z
URL:https://kingstonhappenings.org/events/the-levin-brothers-quartet/
SUMMARY:The Levin Brothers Quartet
DESCRIPTION:The Levin Brothers Quartet - Tony &amp\; Pete with Jeff "Siege"
  Siegel and special guest Ken Gioffre - wind up their 2025 touring in thei
 r own 'hood at this terrific new venue. In-demand sidemen for decades\, To
 ny &amp\; Pete have played on each other's projects and played together fo
 r other artists\, but this is their first joint project. Founded in 2014 w
 ith their first album release "The Levin Brothers" the band has been touri
 ng every year since.(Well\, there was one brief joint project in 1974 by "
 The Clams" - but that's another story.)Tony Levin - bass (Peter Gabriel\, 
 King Crimson\, John Lennon\, Buddy Rich)\, Pete Levin - keyboards (Gil Eva
 ns\, Jimmy Giuffre\, Paul Simon\, Lenny White\, Annie Lennox\, Jaco Pastor
 iius)\, Jeff Siegel - drums (Roland Hanna\, Ron Carter\, Frank Foster\, Mo
 se Allison\, Lee Shaw)\, Ken Gioffre - sax (B.B. King\, Dr. John\, Smokey 
 Robinson\, Nile Rodgers)http://www.thelevinbrothers.com/(If you must know 
 - but we won't be doing this at the Assembly gig)http://petelevin.com/clam
 s.htm
ATTACH;FMTTYPE=image/jpeg:https://kingstonhappenings.org/wp-content/upload
 s/2025/11/571474212_1666290814528962_3026057068953495074_n.jpg
CATEGORIES:@Featured,@Newsletter,Music,Nightlife and entertainment
LOCATION:Assembly\, 236 Wall St. 3rd Floor\, KINGSTON\, NY\, 12401\, United
  States
GEO:41.931738;-74.018648
X-APPLE-STRUCTURED-LOCATION;VALUE=URI;X-ADDRESS=236 Wall St. 3rd Floor\, KI
 NGSTON\, NY\, 12401\, United States;X-APPLE-RADIUS=100;X-TITLE=Assembly:ge
 o:41.931738,-74.018648
END:VEVENT
BEGIN:VTIMEZONE
TZID:America/New_York
X-LIC-LOCATION:America/New_York
BEGIN:STANDARD
DTSTART:20251102T010000
TZOFFSETFROM:-0400
TZOFFSETTO:-0500
TZNAME:EST
END:STANDARD
END:VTIMEZONE
END:VCALENDAR