BEGIN:VCALENDAR
VERSION:2.0
PRODID:-//wp-events-plugin.com//7.2.3.1//EN
TZID:America/New_York
X-WR-TIMEZONE:America/New_York
BEGIN:VEVENT
UID:156107@kingstonhappenings.org
DTSTART;TZID=America/New_York:20260421T190000
DTEND;TZID=America/New_York:20260421T203000
DTSTAMP:20260420T164318Z
URL:https://kingstonhappenings.org/events/the-keeper/
SUMMARY:The Keeper
DESCRIPTION:For 25 years\, charismatic river steward John Lipscomb has patr
 olled the Hudson in his wooden boat\, covering more than 80\,000 miles on 
 “America’s first river.” Fighting industrial waste\, sewage\, and ne
 gligence\, Lipscomb has become both the river’s watchdog and poet laurea
 te\, bearing witness to its wounds and recoveries. Sweeping imagery and in
 timate reflection honor a life devoted to ecological justice while capturi
 ng the moment Lipscomb prepares to pass the torch to a new generation.
CATEGORIES:@Featured,@Newsletter,Movies
LOCATION:Rosendale Theater\, 408 Main St\, Rosendale\, New York\, 12472\, U
 nited States
GEO:41.8441401;-74.0821133
X-APPLE-STRUCTURED-LOCATION;VALUE=URI;X-ADDRESS=408 Main St\, Rosendale\, N
 ew York\, 12472\, United States;X-APPLE-RADIUS=100;X-TITLE=Rosendale Theat
 er:geo:41.8441401,-74.0821133
END:VEVENT
BEGIN:VTIMEZONE
TZID:America/New_York
X-LIC-LOCATION:America/New_York
BEGIN:DAYLIGHT
DTSTART:20260308T030000
TZOFFSETFROM:-0500
TZOFFSETTO:-0400
TZNAME:EDT
END:DAYLIGHT
END:VTIMEZONE
END:VCALENDAR