BEGIN:VCALENDAR
VERSION:2.0
PRODID:-//wp-events-plugin.com//7.2.3.1//EN
TZID:America/New_York
X-WR-TIMEZONE:America/New_York
BEGIN:VEVENT
UID:152002@kingstonhappenings.org
DTSTART;TZID=America/New_York:20250927T180000
DTEND;TZID=America/New_York:20250927T180000
DTSTAMP:20250922T145213Z
URL:https://kingstonhappenings.org/events/the-jv-squad-in-the-garden/
SUMMARY:The JV Squad in The Garden!
DESCRIPTION:Join us for an evening of music on our beautiful outdoor stage!
 \nFeaturing: Joe Veillette\, Jasmine Veillette &amp\; Jimmy Eppard!\nThis 
 trio loves to sing featuring interesting variations of known\, obscure and
  original music Style ranges in from CSN\, arena rock\, and original music
  to Motown and acapella. Emphasis is on creative arrangements and unexpect
 ed approaches.They have a history of working together in bands and vocal g
 roups and have a really great time together!\nhttps://www.veilletteguitars
 .com\nSaturday\, September 27thGates: 5pm/Show: 6 - 9pm$20 Suggested Donat
 ion
ATTACH;FMTTYPE=image/jpeg:https://kingstonhappenings.org/wp-content/upload
 s/2025/09/548630523_1433318995260325_3118017237586224756_n.jpg
CATEGORIES:@Featured,@Newsletter,Music,Nightlife and entertainment
LOCATION:Colony Woodstock NY\, 22 Rock City Rd\, Woodstock\, New York\, Uni
 ted States
GEO:42.0424924;-74.11799489999999
X-APPLE-STRUCTURED-LOCATION;VALUE=URI;X-ADDRESS=22 Rock City Rd\, Woodstock
 \, New York\, United States;X-APPLE-RADIUS=100;X-TITLE=Colony Woodstock NY
 :geo:42.0424924,-74.11799489999999
END:VEVENT
BEGIN:VTIMEZONE
TZID:America/New_York
X-LIC-LOCATION:America/New_York
BEGIN:DAYLIGHT
DTSTART:20250309T030000
TZOFFSETFROM:-0500
TZOFFSETTO:-0400
TZNAME:EDT
END:DAYLIGHT
END:VTIMEZONE
END:VCALENDAR