BEGIN:VCALENDAR
VERSION:2.0
PRODID:-//wp-events-plugin.com//7.2.3.1//EN
TZID:America/New_York
X-WR-TIMEZONE:America/New_York
BEGIN:VEVENT
UID:152795@kingstonhappenings.org
DTSTART;TZID=America/New_York:20251130T190000
DTEND;TZID=America/New_York:20251130T190000
DTSTAMP:20251201T140937Z
URL:https://kingstonhappenings.org/events/the-jinkx-dela-holiday-show/
SUMMARY:The Jinkx & DeLa Holiday Show
DESCRIPTION:The greatest holiday show south of the North Pole is back with 
 another brand spankin’ new wintertide wonder! Award-winning comedy icons
 \, writers\, actors\, and drag queen powerhouses BenDeLaCreme &amp\; Jinkx
  Monsoon are coming back to town with the wildly successful\, internationa
 lly acclaimed\, "The Jinkx &amp\; DeLa Holiday Show." Throughout the show
 ’s 8-year history Jinkx and DeLa have met sentient Christmas treats\, tw
 isted space-time with Dickensian Ghosts\, escaped the meta clutches of the
 ir own holiday traditions\, and led a harrowing rescue mission in the Nutc
 racker's Land of Sweets - You never know what wild and unexpected sleigh r
 ide these queens have in store.\nWhatever the twists and turns\, fans can 
 expect another year of over-the-top camp spectacle\, side-splitting gags\,
  brand new songs\, heartfelt storytelling\, thrilling dance numbers\, and 
 iconic costumes. Hailed by Entertainment Weekly as "the reigning queens of
  Christmas\," this show is not only a moment of respite\, but a celebratio
 n of community\, at a time when we need it most of all.\nFor VIP add-ons\,
  please visit JinkxAndDeLa.com.\nSee less\n
ATTACH;FMTTYPE=image/jpeg:https://kingstonhappenings.org/wp-content/upload
 s/2025/11/517295885_1143097157862231_7385702114717942782_n.jpg
CATEGORIES:@Featured,@Newsletter,Music,Nightlife and entertainment,Theater
LOCATION:Ulster Performing Arts Center (UPAC)\, 601 Broadway\, Kingston\, N
 ew York\, 12401\, United States
GEO:41.92931799999999;-74.004142
X-APPLE-STRUCTURED-LOCATION;VALUE=URI;X-ADDRESS=601 Broadway\, Kingston\, N
 ew York\, 12401\, United States;X-APPLE-RADIUS=100;X-TITLE=Ulster Performi
 ng Arts Center (UPAC):geo:41.92931799999999,-74.004142
END:VEVENT
BEGIN:VTIMEZONE
TZID:America/New_York
X-LIC-LOCATION:America/New_York
BEGIN:STANDARD
DTSTART:20251102T010000
TZOFFSETFROM:-0400
TZOFFSETTO:-0500
TZNAME:EST
END:STANDARD
END:VTIMEZONE
END:VCALENDAR