BEGIN:VCALENDAR
VERSION:2.0
PRODID:-//wp-events-plugin.com//7.2.3.1//EN
TZID:America/New_York
X-WR-TIMEZONE:America/New_York
BEGIN:VEVENT
UID:152711@kingstonhappenings.org
DTSTART;TZID=America/New_York:20251122T200000
DTEND;TZID=America/New_York:20251122T200000
DTSTAMP:20251124T131151Z
URL:https://kingstonhappenings.org/events/the-haveners/
SUMMARY:The Haveners
DESCRIPTION:We are excited to welcome back The Haveners to the Keegan Ales 
 stage!\nEstablished in 2015\, The Haveners are an NYC-based musical collec
 tive dedicated to playing the music that needs to be played and keeping th
 at funk\, soul\, and R&amp\;B alive. There is some SERIOUS talent in this 
 band and they play some good grooves\, too!\n\n&nbsp\;\n\n\nShanelle Jenki
 ns- Trumpet and Vocals\nJosh Torvi – Guitar\nAlden ‘Cuffnone’ Slack-
   Saxophone\nBrett Parker- Keys\nAri Goldstein- Bass\nJohn Marino- Drums\
 n\n\n\n&nbsp\;
ATTACH;FMTTYPE=image/jpeg:https://kingstonhappenings.org/wp-content/upload
 s/2025/11/492008621_3636605729966714_5149360680959863468_n.jpg
CATEGORIES:@Featured,@Newsletter,Music,Nightlife and entertainment
LOCATION:Keegan Ales\, 20 Saint James Street\, Kingston\, NY\, 12401\, Unit
 ed States
GEO:41.931504;-74.01187
X-APPLE-STRUCTURED-LOCATION;VALUE=URI;X-ADDRESS=20 Saint James Street\, Kin
 gston\, NY\, 12401\, United States;X-APPLE-RADIUS=100;X-TITLE=Keegan Ales:
 geo:41.931504,-74.01187
END:VEVENT
BEGIN:VTIMEZONE
TZID:America/New_York
X-LIC-LOCATION:America/New_York
BEGIN:STANDARD
DTSTART:20251102T010000
TZOFFSETFROM:-0400
TZOFFSETTO:-0500
TZNAME:EST
END:STANDARD
END:VTIMEZONE
END:VCALENDAR