BEGIN:VCALENDAR
VERSION:2.0
PRODID:-//wp-events-plugin.com//7.2.3.1//EN
TZID:America/New_York
X-WR-TIMEZONE:America/New_York
BEGIN:VEVENT
UID:152745@kingstonhappenings.org
DTSTART;TZID=America/New_York:20251211T120000
DTEND;TZID=America/New_York:20251213T190000
DTSTAMP:20251208T204556Z
URL:https://kingstonhappenings.org/events/the-hat-factory-open-house-and-h
 oliday-sale/
SUMMARY:The Hat Factory – Open House and Holiday Sale
DESCRIPTION:TOUCAN HAT STUDIO OPEN HOUSE\n&amp\; FACTORY SALE\nJoin us for 
 the annual Toucan Hat Company factory open house and holiday sale at 309 F
 aire Street\, across from Senate House. Hats\, gloves\, and scarves will b
 e on sale!\nDecember 11\, 12\, 13 from 12pm-7pm.\nwww.toucanhatcompany.com
 \n\nPhone:(845) 331-0131 Email: sales@caroleamper.com\n\n&nbsp\;\n\n&nbsp\
 ;
ATTACH;FMTTYPE=image/jpeg:https://kingstonhappenings.org/wp-content/upload
 s/2025/11/Toucan-Hats-Factory-Sale-2025-1920-x-1080-px-2.png
CATEGORIES:@Featured,@Newsletter,Market
LOCATION:Toucan Hat Studio\, 309 Fair St.\, Kingston\, New York\, United St
 ates
GEO:41.934635;-74.019432
X-APPLE-STRUCTURED-LOCATION;VALUE=URI;X-ADDRESS=309 Fair St.\, Kingston\, N
 ew York\, United States;X-APPLE-RADIUS=100;X-TITLE=Toucan Hat Studio:geo:4
 1.934635,-74.019432
END:VEVENT
BEGIN:VTIMEZONE
TZID:America/New_York
X-LIC-LOCATION:America/New_York
BEGIN:STANDARD
DTSTART:20251102T010000
TZOFFSETFROM:-0400
TZOFFSETTO:-0500
TZNAME:EST
END:STANDARD
END:VTIMEZONE
END:VCALENDAR