BEGIN:VCALENDAR
VERSION:2.0
PRODID:-//wp-events-plugin.com//7.2.3.1//EN
TZID:America/New_York
X-WR-TIMEZONE:America/New_York
BEGIN:VEVENT
UID:151571@kingstonhappenings.org
DTSTART;TZID=America/New_York:20251101T170000
DTEND;TZID=America/New_York:20251101T210000
DTSTAMP:20251029T115320Z
URL:https://kingstonhappenings.org/events/the-girls-exploring-an-untethere
 d-sense-of-selfie/
SUMMARY:The Girls: Exploring an Untethered Sense of Self(ie)
DESCRIPTION:The Girls: Exploring an Untethered Sense of Self(ie) Opening\nA
  solo exhibit and book signing by artist Cari L. Marvelli\nDrawing inspira
 tion from a comprehensive collection of self-portraits spanning two decade
 s\, Cari’s disembodied creations convey a subtle sensuality. These works
  delve into the exploration of identity\, personality\, and vulnerability.
 \nEach piece is meticulously layered using original photographs\, which se
 rve to establish the scene. Pieces may include cityscapes\, nature scenes\
 , and everyday objects\, capturing the essence of curiosity and playfulnes
 s.\nOpening reception is Saturday\, November 1st from 5 - 9PM. Closing rec
 eption and artist talk Saturday\, November 29th from 5 - 9PM.\n\nThe exhib
 it runs through Sunday\, November 30th at the Lacemill West Gallery.\n\nSa
 turday and Sunday gallery hours: 1 - 4 PM.
ATTACH;FMTTYPE=image/jpeg:https://kingstonhappenings.org/wp-content/upload
 s/2025/08/Coversmall.jpg
CATEGORIES:@Featured,@Newsletter,Art
LOCATION:The Lace Mill\, 165 Cornell St.\, Kingston\, New York\, 12401\, Un
 ited States
GEO:41.934636;-73.99857700000001
X-APPLE-STRUCTURED-LOCATION;VALUE=URI;X-ADDRESS=165 Cornell St.\, Kingston\
 , New York\, 12401\, United States;X-APPLE-RADIUS=100;X-TITLE=The Lace Mil
 l:geo:41.934636,-73.99857700000001
END:VEVENT
BEGIN:VTIMEZONE
TZID:America/New_York
X-LIC-LOCATION:America/New_York
BEGIN:DAYLIGHT
DTSTART:20250309T030000
TZOFFSETFROM:-0500
TZOFFSETTO:-0400
TZNAME:EDT
END:DAYLIGHT
END:VTIMEZONE
END:VCALENDAR