BEGIN:VCALENDAR
VERSION:2.0
PRODID:-//wp-events-plugin.com//7.2.3.1//EN
TZID:America/New_York
X-WR-TIMEZONE:America/New_York
BEGIN:VEVENT
UID:156306@kingstonhappenings.org
DTSTART;TZID=America/New_York:20260612T200000
DTEND;TZID=America/New_York:20260612T220000
DTSTAMP:20260416T003636Z
URL:https://kingstonhappenings.org/events/the-garifuna-collective/
SUMMARY:The Garifuna Collective
DESCRIPTION:The Garifuna Collective has been a driving force in bringing t
 he rich cultural heritage and music of the Garifuna people to a global aud
 ience for the last 20 years. Hailing from Belize in Central America\, The
  Garifuna Collective has had a lasting impact in the Garifuna community a
 nd on the World Music stage. Their work has been critical in preserving an
 d evolving the Garifuna musical traditions\, while also highlighting the o
 ngoing struggles and triumphs of the Garifuna people. This exceptional gro
 up of musicians has played to audiences in over 30 countries\, making them
  one of the most important cultural ambassadors in the region.\n\nThey hav
 e released a series of critically acclaimed albums including Watina\, whic
 h was honored with prestigious accolades from WOMEX\, and the BBC World Mu
 sic Awards. Voted as Amazon's "Number One World Music Album of All Time" i
 n 2008\, Watina continues to be a landmark in World Music.\n\nFor their 20
 th Anniversary\, The Garifuna Collective embarks on a world tour to celebr
 ate their rich musical heritage and their continuing role in elevating Gar
 ifuna culture globally. With performances across multiple continents\, the
 y will share the powerful stories of resilience\, pride\, and unity throug
 h their music. The band's energetic and evocative live shows draw from the
 ir extensive repertoire\, mixing traditional Garifuna rhythms with contemp
 orary World Music grooves.\n\nSecure your spot for this extraordinary worl
 d music experience!\n\nAdvance tickets: $25 / $35 / $50\nDay-of / Door pri
 ce: $40\, subject to availability\n\nGET TICKETS HERE
ATTACH;FMTTYPE=image/jpeg:https://kingstonhappenings.org/wp-content/upload
 s/2026/04/THE_GARIFUNA_COLLECTIVE_4_Photo_by_Jeremy_Lewis-1562-wide.jpg
CATEGORIES:@Featured,Music
LOCATION:Tempo Arts\, 29 Wurts St. \, KINGSTON\, NY\, 12401\, United States
GEO:41.918241;-73.986437
X-APPLE-STRUCTURED-LOCATION;VALUE=URI;X-ADDRESS=29 Wurts St. \, KINGSTON\, 
 NY\, 12401\, United States;X-APPLE-RADIUS=100;X-TITLE=Tempo Arts:geo:41.91
 8241,-73.986437
END:VEVENT
BEGIN:VTIMEZONE
TZID:America/New_York
X-LIC-LOCATION:America/New_York
BEGIN:DAYLIGHT
DTSTART:20260308T030000
TZOFFSETFROM:-0500
TZOFFSETTO:-0400
TZNAME:EDT
END:DAYLIGHT
END:VTIMEZONE
END:VCALENDAR