BEGIN:VCALENDAR
VERSION:2.0
PRODID:-//wp-events-plugin.com//7.2.3.1//EN
TZID:America/New_York
X-WR-TIMEZONE:America/New_York
BEGIN:VEVENT
UID:153331@kingstonhappenings.org
DTSTART;TZID=America/New_York:20260101T110000
DTEND;TZID=America/New_York:20260101T110000
DTSTAMP:20260105T125228Z
URL:https://kingstonhappenings.org/events/the-freezing-of-kingston/
SUMMARY:The Freezing of Kingston
DESCRIPTION:Join us for our newest tradition\, ‘The Freezing of Kingston
 ’.\nWhat better way to bring in 2026 (and sober up) than a quick hop in 
 the Hudson River.\nBring a towel and a change of clothes. Afterwards\, we
 ’ll head to Keegan’s to warm up and play some board games.\nDon’t wa
 nt to plunge\, we always need ‘lifeguards’ and someone to video our sh
 enanigans
ATTACH;FMTTYPE=image/jpeg:https://kingstonhappenings.org/wp-content/upload
 s/2025/12/603852042_1686691519259749_4948391585641826488_n.jpg
CATEGORIES:@Featured,@Newsletter,Community,Festivals and major community
 events,Sports and recreation
LOCATION:Kingston Point Beach\, 2 Delaware Ave.\, Kingston\, NY\, 12401\, U
 nited States
GEO:41.9282924;-73.96262869999998
X-APPLE-STRUCTURED-LOCATION;VALUE=URI;X-ADDRESS=2 Delaware Ave.\, Kingston\
 , NY\, 12401\, United States;X-APPLE-RADIUS=100;X-TITLE=Kingston Point Bea
 ch:geo:41.9282924,-73.96262869999998
END:VEVENT
BEGIN:VTIMEZONE
TZID:America/New_York
X-LIC-LOCATION:America/New_York
BEGIN:STANDARD
DTSTART:20251102T010000
TZOFFSETFROM:-0400
TZOFFSETTO:-0500
TZNAME:EST
END:STANDARD
END:VTIMEZONE
END:VCALENDAR