BEGIN:VCALENDAR
VERSION:2.0
PRODID:-//wp-events-plugin.com//7.2.3.1//EN
TZID:America/New_York
X-WR-TIMEZONE:America/New_York
BEGIN:VEVENT
UID:155353@kingstonhappenings.org
DTSTART;TZID=America/New_York:20260221T190000
DTEND;TZID=America/New_York:20260221T190000
DTSTAMP:20260218T165157Z
URL:https://kingstonhappenings.org/events/the-fabulous-versatones/
SUMMARY:The Fabulous Versatones
DESCRIPTION:The Fabulous Versatones play swing music fro the 1930s-1950s fo
 r today's swing dancers. They will play from 7-10pm. No partner necessary.
  No experience needed. The dance is FREE\, but $15 is suggested by the ven
 ue. We hope you'll donate what you can to this wonderful dancing experienc
 e.\nCan't wait to see you on the dance floor.
ATTACH;FMTTYPE=image/jpeg:https://kingstonhappenings.org/wp-content/upload
 s/2026/02/627968767_1332573185566710_858437640869178076_n.jpg
CATEGORIES:@Featured,@Newsletter,Dance,Music,Nightlife and entertainment
LOCATION:Tempo Arts\, 29 Wurts St. \, KINGSTON\, NY\, 12401\, United States
GEO:41.918241;-73.986437
X-APPLE-STRUCTURED-LOCATION;VALUE=URI;X-ADDRESS=29 Wurts St. \, KINGSTON\, 
 NY\, 12401\, United States;X-APPLE-RADIUS=100;X-TITLE=Tempo Arts:geo:41.91
 8241,-73.986437
END:VEVENT
BEGIN:VTIMEZONE
TZID:America/New_York
X-LIC-LOCATION:America/New_York
BEGIN:STANDARD
DTSTART:20251102T010000
TZOFFSETFROM:-0400
TZOFFSETTO:-0500
TZNAME:EST
END:STANDARD
END:VTIMEZONE
END:VCALENDAR