BEGIN:VCALENDAR
VERSION:2.0
PRODID:-//wp-events-plugin.com//7.2.3.1//EN
TZID:America/New_York
X-WR-TIMEZONE:America/New_York
BEGIN:VEVENT
UID:156437@kingstonhappenings.org
DTSTART;TZID=America/New_York:20260513T190000
DTEND;TZID=America/New_York:20260513T203000
DTSTAMP:20260423T180123Z
URL:https://kingstonhappenings.org/events/the-dutch-their-new-york-legacy-
 lecture-with-stephen-blauweiss/
SUMMARY:The Dutch &amp\; Their New York Legacy Lecture with Stephen Blauwei
 ss
DESCRIPTION:Dutch history can be elusive – it’s rarely taught in our sc
 hools and with so many disparate parts it often follows a meandering\, con
 voluted path and connections are obscured. Historian/filmmaker Stephen Bla
 uweiss brings this history to life in a fun and engaging way\, using a vas
 t array of quality images\, maps\, and timelines. What was once opaque bec
 omes clear and understandable as the stories unfold and connect on multipl
 e levels.\n\nPart 2 of 3 part series with historian Stephen Blauweiss. Ste
 phen has over 30 years experience as an independent filmmaker and produce
 s work on a wide variety of subjects\, from art and education to social an
 d environmental issues. He has produced over 75 short films\, including th
 ree features. Twenty of his short films about artists have aired on Americ
 an Public Television and have been screened in museums and festivals acros
 s the U.S.\, Europe and Canada\, including the New York State Museum\, Mas
 s Moca\, the Albany Institute of History &amp\; Art\, and the Dorsky Museu
 m of Art.\n\nRegistration for all lecture found here: https://bit.ly/4exK
 ng6
ATTACH;FMTTYPE=image/jpeg:https://kingstonhappenings.org/wp-content/upload
 s/2026/04/dutch-new-york-graphic-1_orig-copy.jpg
CATEGORIES:@Featured,History
LOCATION:Hudson River Maritime Museum\, 50 Rondout Landing\, Kingston\, NY\
 , 12401\, United States
GEO:41.91886;-73.980984
X-APPLE-STRUCTURED-LOCATION;VALUE=URI;X-ADDRESS=50 Rondout Landing\, Kingst
 on\, NY\, 12401\, United States;X-APPLE-RADIUS=100;X-TITLE=Hudson River Ma
 ritime Museum:geo:41.91886,-73.980984
END:VEVENT
BEGIN:VTIMEZONE
TZID:America/New_York
X-LIC-LOCATION:America/New_York
BEGIN:DAYLIGHT
DTSTART:20260308T030000
TZOFFSETFROM:-0500
TZOFFSETTO:-0400
TZNAME:EDT
END:DAYLIGHT
END:VTIMEZONE
END:VCALENDAR