BEGIN:VCALENDAR
VERSION:2.0
PRODID:-//wp-events-plugin.com//7.2.3.1//EN
TZID:America/New_York
X-WR-TIMEZONE:America/New_York
BEGIN:VEVENT
UID:153134@kingstonhappenings.org
DTSTART;TZID=America/New_York:20251219T200000
DTEND;TZID=America/New_York:20251219T200000
DTSTAMP:20251216T143616Z
URL:https://kingstonhappenings.org/events/the-deadbeats-3/
SUMMARY:The Deadbeats
DESCRIPTION:The Deadbeats are not to be missed!\n\nThey will be rocking th
 e best of the Grateful Dead and Janis Joplin\, and a bunch of the classics
  that will take you back\n\nand make you feel good all over.\n\n&nbsp\;\nB
 and Members:\n\nMike Johnson /Guitar and vocals\nDenise Parent/Drums and v
 ocals\nTed Grey/Guitar and vocals\nTom Pirozzi/Bass and vocals\nBrian Mang
 ini/Keys
ATTACH;FMTTYPE=image/jpeg:https://kingstonhappenings.org/wp-content/upload
 s/2025/12/29683807_10157258985402067_2769232389439515639_n-e1559682186809-
 1.jpg
CATEGORIES:@Featured,@Newsletter,Music,Nightlife and entertainment
LOCATION:Keegan Ales\, 20 Saint James Street\, Kingston\, NY\, 12401\, Unit
 ed States
GEO:41.931504;-74.01187
X-APPLE-STRUCTURED-LOCATION;VALUE=URI;X-ADDRESS=20 Saint James Street\, Kin
 gston\, NY\, 12401\, United States;X-APPLE-RADIUS=100;X-TITLE=Keegan Ales:
 geo:41.931504,-74.01187
END:VEVENT
BEGIN:VTIMEZONE
TZID:America/New_York
X-LIC-LOCATION:America/New_York
BEGIN:STANDARD
DTSTART:20251102T010000
TZOFFSETFROM:-0400
TZOFFSETTO:-0500
TZNAME:EST
END:STANDARD
END:VTIMEZONE
END:VCALENDAR