BEGIN:VCALENDAR
VERSION:2.0
PRODID:-//wp-events-plugin.com//7.2.3.1//EN
TZID:America/New_York
X-WR-TIMEZONE:America/New_York
BEGIN:VEVENT
UID:151465@kingstonhappenings.org
DTSTART;TZID=America/New_York:20250817T130000
DTEND;TZID=America/New_York:20250817T160000
DTSTAMP:20250818T113545Z
URL:https://kingstonhappenings.org/events/the-clique-for-peoples-place/
SUMMARY:The CliQue for People's Place
DESCRIPTION:The CliQue is honored to be performing for People's place a loc
 al charity based out of Kingston.https://www.peoplesplace.org/
ATTACH;FMTTYPE=image/jpeg:https://kingstonhappenings.org/wp-content/upload
 s/2025/08/503563967_1292799259516392_2326937401934900787_n-scaled.jpg
CATEGORIES:@Featured,@Newsletter,Community,Movies,Nightlife and
 entertainment
LOCATION:Castaways Bar and Grill\, 160 1st St\, Connelly\, NY\, 12417\, Uni
 ted States
GEO:41.911152;-73.993801
X-APPLE-STRUCTURED-LOCATION;VALUE=URI;X-ADDRESS=160 1st St\, Connelly\, NY\
 , 12417\, United States;X-APPLE-RADIUS=100;X-TITLE=Castaways Bar and Grill
 :geo:41.911152,-73.993801
END:VEVENT
BEGIN:VTIMEZONE
TZID:America/New_York
X-LIC-LOCATION:America/New_York
BEGIN:DAYLIGHT
DTSTART:20250309T030000
TZOFFSETFROM:-0500
TZOFFSETTO:-0400
TZNAME:EDT
END:DAYLIGHT
END:VTIMEZONE
END:VCALENDAR