BEGIN:VCALENDAR
VERSION:2.0
PRODID:-//wp-events-plugin.com//7.2.3.1//EN
TZID:America/New_York
X-WR-TIMEZONE:America/New_York
BEGIN:VEVENT
UID:151469@kingstonhappenings.org
DTSTART;TZID=America/New_York:20250817T153000
DTEND;TZID=America/New_York:20250817T173000
DTSTAMP:20250818T113556Z
URL:https://kingstonhappenings.org/events/the-clear-light-ensemble/
SUMMARY:The Clear Light Ensemble
DESCRIPTION:The Clear Light Ensemble is an improvisational musical collabor
 ation divinely inspired by Classical Indian Ragas. It's a cosmic tapestry 
 of diverse musical forms including world jazz\, rock\, classical\, folk an
 d avant guard.
ATTACH;FMTTYPE=image/jpeg:https://kingstonhappenings.org/wp-content/upload
 s/2025/08/517771187_1457970428949563_7933026353726013101_n.jpg
CATEGORIES:@Featured,@Newsletter,Music,Nightlife and entertainment
LOCATION:Rail Trail Cafe\, 310 River Rd. Ext. \, Rosendale\, NY\, 12401\, U
 nited States
GEO:41.81887;-74.08056
X-APPLE-STRUCTURED-LOCATION;VALUE=URI;X-ADDRESS=310 River Rd. Ext. \, Rosen
 dale\, NY\, 12401\, United States;X-APPLE-RADIUS=100;X-TITLE=Rail Trail Ca
 fe:geo:41.81887,-74.08056
END:VEVENT
BEGIN:VTIMEZONE
TZID:America/New_York
X-LIC-LOCATION:America/New_York
BEGIN:DAYLIGHT
DTSTART:20250309T030000
TZOFFSETFROM:-0500
TZOFFSETTO:-0400
TZNAME:EDT
END:DAYLIGHT
END:VTIMEZONE
END:VCALENDAR